BEGIN:VCALENDAR
VERSION:2.0
PRODID:-//Westside Terrace Healthcare - ECPv6.15.20//NONSGML v1.0//EN
CALSCALE:GREGORIAN
METHOD:PUBLISH
X-WR-CALNAME:Westside Terrace Healthcare
X-ORIGINAL-URL:https://www.westsidecares.com
X-WR-CALDESC:Events for Westside Terrace Healthcare
REFRESH-INTERVAL;VALUE=DURATION:PT1H
X-Robots-Tag:noindex
X-PUBLISHED-TTL:PT1H
BEGIN:VTIMEZONE
TZID:America/Chicago
BEGIN:DAYLIGHT
TZOFFSETFROM:-0600
TZOFFSETTO:-0500
TZNAME:CDT
DTSTART:20290311T080000
END:DAYLIGHT
BEGIN:STANDARD
TZOFFSETFROM:-0500
TZOFFSETTO:-0600
TZNAME:CST
DTSTART:20291104T070000
END:STANDARD
BEGIN:DAYLIGHT
TZOFFSETFROM:-0600
TZOFFSETTO:-0500
TZNAME:CDT
DTSTART:20300310T080000
END:DAYLIGHT
BEGIN:STANDARD
TZOFFSETFROM:-0500
TZOFFSETTO:-0600
TZNAME:CST
DTSTART:20301103T070000
END:STANDARD
BEGIN:DAYLIGHT
TZOFFSETFROM:-0600
TZOFFSETTO:-0500
TZNAME:CDT
DTSTART:20310309T080000
END:DAYLIGHT
BEGIN:STANDARD
TZOFFSETFROM:-0500
TZOFFSETTO:-0600
TZNAME:CST
DTSTART:20311102T070000
END:STANDARD
END:VTIMEZONE
BEGIN:VEVENT
DTSTART;TZID=America/Chicago:20300814T100000
DTEND;TZID=America/Chicago:20300814T100000
DTSTAMP:20260425T174947
CREATED:20240320T163554Z
LAST-MODIFIED:20240501T155714Z
UID:10013349-1912932000-1912932000@www.westsidecares.com
SUMMARY:Wednesday Church
DESCRIPTION:
URL:https://www.westsidecares.com/event/wednesday-church-3/2030-08-14/
LOCATION:Westside Terrace\, 501 N Woodburn Drive\, Dothan\, AL\, 36303\, United States
GEO:31.2423912;-85.4546006
X-APPLE-STRUCTURED-LOCATION;VALUE=URI;X-ADDRESS=Westside Terrace 501 N Woodburn Drive Dothan AL 36303 United States;X-APPLE-RADIUS=500;X-TITLE=501 N Woodburn Drive:geo:-85.4546006,31.2423912
END:VEVENT
BEGIN:VEVENT
DTSTART;TZID=America/Chicago:20300814T130000
DTEND;TZID=America/Chicago:20300814T130000
DTSTAMP:20260425T174947
CREATED:20250902T180310Z
LAST-MODIFIED:20250902T180310Z
UID:10013346-1912942800-1912942800@www.westsidecares.com
SUMMARY:Table Games (SDR)
DESCRIPTION:
URL:https://www.westsidecares.com/event/table-games-9-2-2-2-5-2-3-2-2-2/2030-08-14/
LOCATION:Westside Terrace\, 501 N Woodburn Drive\, Dothan\, AL\, 36303\, United States
GEO:31.2423912;-85.4546006
X-APPLE-STRUCTURED-LOCATION;VALUE=URI;X-ADDRESS=Westside Terrace 501 N Woodburn Drive Dothan AL 36303 United States;X-APPLE-RADIUS=500;X-TITLE=501 N Woodburn Drive:geo:-85.4546006,31.2423912
END:VEVENT
BEGIN:VEVENT
DTSTART;TZID=America/Chicago:20300814T190000
DTEND;TZID=America/Chicago:20300814T190000
DTSTAMP:20260425T174947
CREATED:20240816T193058Z
LAST-MODIFIED:20240923T135600Z
UID:10013351-1912964400-1912964400@www.westsidecares.com
SUMMARY:Beauty Shop
DESCRIPTION:
URL:https://www.westsidecares.com/event/beauty-shop-2/2030-08-14/
LOCATION:Westside Terrace\, 501 N Woodburn Drive\, Dothan\, AL\, 36303\, United States
CATEGORIES:Full Day w Styling
GEO:31.2423912;-85.4546006
X-APPLE-STRUCTURED-LOCATION;VALUE=URI;X-ADDRESS=Westside Terrace 501 N Woodburn Drive Dothan AL 36303 United States;X-APPLE-RADIUS=500;X-TITLE=501 N Woodburn Drive:geo:-85.4546006,31.2423912
END:VEVENT
BEGIN:VEVENT
DTSTART;TZID=America/Chicago:20300815T130000
DTEND;TZID=America/Chicago:20300815T130000
DTSTAMP:20260425T174947
CREATED:20250902T180310Z
LAST-MODIFIED:20250902T180310Z
UID:10013350-1913029200-1913029200@www.westsidecares.com
SUMMARY:Table Games (SDR)
DESCRIPTION:
URL:https://www.westsidecares.com/event/table-games-9-2-2-2-5-2-3-2-2-2/2030-08-15/
LOCATION:Westside Terrace\, 501 N Woodburn Drive\, Dothan\, AL\, 36303\, United States
GEO:31.2423912;-85.4546006
X-APPLE-STRUCTURED-LOCATION;VALUE=URI;X-ADDRESS=Westside Terrace 501 N Woodburn Drive Dothan AL 36303 United States;X-APPLE-RADIUS=500;X-TITLE=501 N Woodburn Drive:geo:-85.4546006,31.2423912
END:VEVENT
BEGIN:VEVENT
DTSTART;TZID=America/Chicago:20300816T100000
DTEND;TZID=America/Chicago:20300816T100000
DTSTAMP:20260425T174947
CREATED:20230131T144018Z
LAST-MODIFIED:20240501T160141Z
UID:10013353-1913104800-1913104800@www.westsidecares.com
SUMMARY:Fitness Friday
DESCRIPTION:
URL:https://www.westsidecares.com/event/fitness-friday/2030-08-16/
LOCATION:Westside Terrace\, 501 N Woodburn Drive\, Dothan\, AL\, 36303\, United States
GEO:31.2423912;-85.4546006
X-APPLE-STRUCTURED-LOCATION;VALUE=URI;X-ADDRESS=Westside Terrace 501 N Woodburn Drive Dothan AL 36303 United States;X-APPLE-RADIUS=500;X-TITLE=501 N Woodburn Drive:geo:-85.4546006,31.2423912
END:VEVENT
BEGIN:VEVENT
DTSTART;TZID=America/Chicago:20300816T130000
DTEND;TZID=America/Chicago:20300816T130000
DTSTAMP:20260425T174947
CREATED:20250902T180310Z
LAST-MODIFIED:20250902T180310Z
UID:10013352-1913115600-1913115600@www.westsidecares.com
SUMMARY:Table Games (SDR)
DESCRIPTION:
URL:https://www.westsidecares.com/event/table-games-9-2-2-2-5-2-3-2-2-2/2030-08-16/
LOCATION:Westside Terrace\, 501 N Woodburn Drive\, Dothan\, AL\, 36303\, United States
GEO:31.2423912;-85.4546006
X-APPLE-STRUCTURED-LOCATION;VALUE=URI;X-ADDRESS=Westside Terrace 501 N Woodburn Drive Dothan AL 36303 United States;X-APPLE-RADIUS=500;X-TITLE=501 N Woodburn Drive:geo:-85.4546006,31.2423912
END:VEVENT
BEGIN:VEVENT
DTSTART;TZID=America/Chicago:20300816T190000
DTEND;TZID=America/Chicago:20300816T190000
DTSTAMP:20260425T174947
CREATED:20240816T193203Z
LAST-MODIFIED:20240816T193203Z
UID:10013355-1913137200-1913137200@www.westsidecares.com
SUMMARY:Beauty Shop
DESCRIPTION:
URL:https://www.westsidecares.com/event/beauty-shop-5/2030-08-16/
LOCATION:Westside Terrace\, 501 N Woodburn Drive\, Dothan\, AL\, 36303\, United States
CATEGORIES:Full Day w Styling
GEO:31.2423912;-85.4546006
X-APPLE-STRUCTURED-LOCATION;VALUE=URI;X-ADDRESS=Westside Terrace 501 N Woodburn Drive Dothan AL 36303 United States;X-APPLE-RADIUS=500;X-TITLE=501 N Woodburn Drive:geo:-85.4546006,31.2423912
END:VEVENT
BEGIN:VEVENT
DTSTART;TZID=America/Chicago:20300817T130000
DTEND;TZID=America/Chicago:20300817T130000
DTSTAMP:20260425T174947
CREATED:20250902T180310Z
LAST-MODIFIED:20250902T180310Z
UID:10013354-1913202000-1913202000@www.westsidecares.com
SUMMARY:Table Games (SDR)
DESCRIPTION:
URL:https://www.westsidecares.com/event/table-games-9-2-2-2-5-2-3-2-2-2/2030-08-17/
LOCATION:Westside Terrace\, 501 N Woodburn Drive\, Dothan\, AL\, 36303\, United States
GEO:31.2423912;-85.4546006
X-APPLE-STRUCTURED-LOCATION;VALUE=URI;X-ADDRESS=Westside Terrace 501 N Woodburn Drive Dothan AL 36303 United States;X-APPLE-RADIUS=500;X-TITLE=501 N Woodburn Drive:geo:-85.4546006,31.2423912
END:VEVENT
BEGIN:VEVENT
DTSTART;TZID=America/Chicago:20300817T140000
DTEND;TZID=America/Chicago:20300817T140000
DTSTAMP:20260425T174947
CREATED:20240320T162444Z
LAST-MODIFIED:20250519T155349Z
UID:10013357-1913205600-1913205600@www.westsidecares.com
SUMMARY:Resident Rights Bingo
DESCRIPTION:
URL:https://www.westsidecares.com/event/resident-rights-bingo-2/2030-08-17/
LOCATION:Westside Terrace\, 501 N Woodburn Drive\, Dothan\, AL\, 36303\, United States
GEO:31.2423912;-85.4546006
X-APPLE-STRUCTURED-LOCATION;VALUE=URI;X-ADDRESS=Westside Terrace 501 N Woodburn Drive Dothan AL 36303 United States;X-APPLE-RADIUS=500;X-TITLE=501 N Woodburn Drive:geo:-85.4546006,31.2423912
END:VEVENT
BEGIN:VEVENT
DTSTART;TZID=America/Chicago:20300818T100000
DTEND;TZID=America/Chicago:20300818T100000
DTSTAMP:20260425T174947
CREATED:20241127T170827Z
LAST-MODIFIED:20241127T170827Z
UID:10013358-1913277600-1913277600@www.westsidecares.com
SUMMARY:Sunday Worship on TV
DESCRIPTION:
URL:https://www.westsidecares.com/event/sunday-worship-2023-02-12-2-2-2/2030-08-18/
LOCATION:Westside Terrace\, 501 N Woodburn Drive\, Dothan\, AL\, 36303\, United States
GEO:31.2423912;-85.4546006
X-APPLE-STRUCTURED-LOCATION;VALUE=URI;X-ADDRESS=Westside Terrace 501 N Woodburn Drive Dothan AL 36303 United States;X-APPLE-RADIUS=500;X-TITLE=501 N Woodburn Drive:geo:-85.4546006,31.2423912
END:VEVENT
BEGIN:VEVENT
DTSTART;TZID=America/Chicago:20300818T130000
DTEND;TZID=America/Chicago:20300818T130000
DTSTAMP:20260425T174947
CREATED:20250902T180310Z
LAST-MODIFIED:20250902T180310Z
UID:10013356-1913288400-1913288400@www.westsidecares.com
SUMMARY:Table Games (SDR)
DESCRIPTION:
URL:https://www.westsidecares.com/event/table-games-9-2-2-2-5-2-3-2-2-2/2030-08-18/
LOCATION:Westside Terrace\, 501 N Woodburn Drive\, Dothan\, AL\, 36303\, United States
GEO:31.2423912;-85.4546006
X-APPLE-STRUCTURED-LOCATION;VALUE=URI;X-ADDRESS=Westside Terrace 501 N Woodburn Drive Dothan AL 36303 United States;X-APPLE-RADIUS=500;X-TITLE=501 N Woodburn Drive:geo:-85.4546006,31.2423912
END:VEVENT
BEGIN:VEVENT
DTSTART;TZID=America/Chicago:20300819T130000
DTEND;TZID=America/Chicago:20300819T130000
DTSTAMP:20260425T174947
CREATED:20250902T180310Z
LAST-MODIFIED:20250902T180310Z
UID:10013359-1913374800-1913374800@www.westsidecares.com
SUMMARY:Table Games (SDR)
DESCRIPTION:
URL:https://www.westsidecares.com/event/table-games-9-2-2-2-5-2-3-2-2-2/2030-08-19/
LOCATION:Westside Terrace\, 501 N Woodburn Drive\, Dothan\, AL\, 36303\, United States
GEO:31.2423912;-85.4546006
X-APPLE-STRUCTURED-LOCATION;VALUE=URI;X-ADDRESS=Westside Terrace 501 N Woodburn Drive Dothan AL 36303 United States;X-APPLE-RADIUS=500;X-TITLE=501 N Woodburn Drive:geo:-85.4546006,31.2423912
END:VEVENT
BEGIN:VEVENT
DTSTART;TZID=America/Chicago:20300819T140000
DTEND;TZID=America/Chicago:20300819T140000
DTSTAMP:20260425T174947
CREATED:20240320T170155Z
LAST-MODIFIED:20240320T170155Z
UID:10013362-1913378400-1913378400@www.westsidecares.com
SUMMARY:Music with Lil Jimmy Reed (Bluesman)
DESCRIPTION:
URL:https://www.westsidecares.com/event/music-with-lil-jimmy-reed-bluesman/2030-08-19/
LOCATION:Westside Terrace\, 501 N Woodburn Drive\, Dothan\, AL\, 36303\, United States
GEO:31.2423912;-85.4546006
X-APPLE-STRUCTURED-LOCATION;VALUE=URI;X-ADDRESS=Westside Terrace 501 N Woodburn Drive Dothan AL 36303 United States;X-APPLE-RADIUS=500;X-TITLE=501 N Woodburn Drive:geo:-85.4546006,31.2423912
END:VEVENT
BEGIN:VEVENT
DTSTART;TZID=America/Chicago:20300819T190000
DTEND;TZID=America/Chicago:20300819T190000
DTSTAMP:20260425T174947
CREATED:20240816T184329Z
LAST-MODIFIED:20240816T192828Z
UID:10013363-1913396400-1913396400@www.westsidecares.com
SUMMARY:Beauty Shop
DESCRIPTION:
URL:https://www.westsidecares.com/event/beauty-shop-3-3/2030-08-19/
LOCATION:Westside Terrace\, 501 N Woodburn Drive\, Dothan\, AL\, 36303\, United States
CATEGORIES:Full Day w Styling
GEO:31.2423912;-85.4546006
X-APPLE-STRUCTURED-LOCATION;VALUE=URI;X-ADDRESS=Westside Terrace 501 N Woodburn Drive Dothan AL 36303 United States;X-APPLE-RADIUS=500;X-TITLE=501 N Woodburn Drive:geo:-85.4546006,31.2423912
END:VEVENT
BEGIN:VEVENT
DTSTART;TZID=America/Chicago:20300820T093000
DTEND;TZID=America/Chicago:20300820T093000
DTSTAMP:20260425T174947
CREATED:20240618T143810Z
LAST-MODIFIED:20240618T143810Z
UID:10013364-1913448600-1913448600@www.westsidecares.com
SUMMARY:Sensory
DESCRIPTION:
URL:https://www.westsidecares.com/event/sensory-2-2/2030-08-20/
LOCATION:Westside Terrace\, 501 N Woodburn Drive\, Dothan\, AL\, 36303\, United States
GEO:31.2423912;-85.4546006
X-APPLE-STRUCTURED-LOCATION;VALUE=URI;X-ADDRESS=Westside Terrace 501 N Woodburn Drive Dothan AL 36303 United States;X-APPLE-RADIUS=500;X-TITLE=501 N Woodburn Drive:geo:-85.4546006,31.2423912
END:VEVENT
BEGIN:VEVENT
DTSTART;TZID=America/Chicago:20300820T093000
DTEND;TZID=America/Chicago:20300820T093000
DTSTAMP:20260425T174947
CREATED:20241226T154151Z
LAST-MODIFIED:20241226T160001Z
UID:10013365-1913448600-1913448600@www.westsidecares.com
SUMMARY:Gospel Hour
DESCRIPTION:
URL:https://www.westsidecares.com/event/gospel-hour-5/2030-08-20/
LOCATION:Westside Terrace\, 501 N Woodburn Drive\, Dothan\, AL\, 36303\, United States
GEO:31.2423912;-85.4546006
X-APPLE-STRUCTURED-LOCATION;VALUE=URI;X-ADDRESS=Westside Terrace 501 N Woodburn Drive Dothan AL 36303 United States;X-APPLE-RADIUS=500;X-TITLE=501 N Woodburn Drive:geo:-85.4546006,31.2423912
END:VEVENT
BEGIN:VEVENT
DTSTART;TZID=America/Chicago:20300820T130000
DTEND;TZID=America/Chicago:20300820T130000
DTSTAMP:20260425T174947
CREATED:20250902T180310Z
LAST-MODIFIED:20250902T180310Z
UID:10013361-1913461200-1913461200@www.westsidecares.com
SUMMARY:Table Games (SDR)
DESCRIPTION:
URL:https://www.westsidecares.com/event/table-games-9-2-2-2-5-2-3-2-2-2/2030-08-20/
LOCATION:Westside Terrace\, 501 N Woodburn Drive\, Dothan\, AL\, 36303\, United States
GEO:31.2423912;-85.4546006
X-APPLE-STRUCTURED-LOCATION;VALUE=URI;X-ADDRESS=Westside Terrace 501 N Woodburn Drive Dothan AL 36303 United States;X-APPLE-RADIUS=500;X-TITLE=501 N Woodburn Drive:geo:-85.4546006,31.2423912
END:VEVENT
BEGIN:VEVENT
DTSTART;TZID=America/Chicago:20300820T190000
DTEND;TZID=America/Chicago:20300820T190000
DTSTAMP:20260425T174947
CREATED:20240816T192425Z
LAST-MODIFIED:20240816T192723Z
UID:10013367-1913482800-1913482800@www.westsidecares.com
SUMMARY:Beauty Shop
DESCRIPTION:
URL:https://www.westsidecares.com/event/beauty-shop-4-3-2/2030-08-20/
LOCATION:Westside Terrace\, 501 N Woodburn Drive\, Dothan\, AL\, 36303\, United States
CATEGORIES:Full Day w Styling
GEO:31.2423912;-85.4546006
X-APPLE-STRUCTURED-LOCATION;VALUE=URI;X-ADDRESS=Westside Terrace 501 N Woodburn Drive Dothan AL 36303 United States;X-APPLE-RADIUS=500;X-TITLE=501 N Woodburn Drive:geo:-85.4546006,31.2423912
END:VEVENT
BEGIN:VEVENT
DTSTART;TZID=America/Chicago:20300821T093000
DTEND;TZID=America/Chicago:20300821T093000
DTSTAMP:20260425T174947
CREATED:20240618T143906Z
LAST-MODIFIED:20240618T143907Z
UID:10013368-1913535000-1913535000@www.westsidecares.com
SUMMARY:Sensory
DESCRIPTION:
URL:https://www.westsidecares.com/event/small-groups-2-2/2030-08-21/
LOCATION:Westside Terrace\, 501 N Woodburn Drive\, Dothan\, AL\, 36303\, United States
GEO:31.2423912;-85.4546006
X-APPLE-STRUCTURED-LOCATION;VALUE=URI;X-ADDRESS=Westside Terrace 501 N Woodburn Drive Dothan AL 36303 United States;X-APPLE-RADIUS=500;X-TITLE=501 N Woodburn Drive:geo:-85.4546006,31.2423912
END:VEVENT
BEGIN:VEVENT
DTSTART;TZID=America/Chicago:20300821T100000
DTEND;TZID=America/Chicago:20300821T100000
DTSTAMP:20260425T174947
CREATED:20240320T163554Z
LAST-MODIFIED:20240501T155714Z
UID:10013369-1913536800-1913536800@www.westsidecares.com
SUMMARY:Wednesday Church
DESCRIPTION:
URL:https://www.westsidecares.com/event/wednesday-church-3/2030-08-21/
LOCATION:Westside Terrace\, 501 N Woodburn Drive\, Dothan\, AL\, 36303\, United States
GEO:31.2423912;-85.4546006
X-APPLE-STRUCTURED-LOCATION;VALUE=URI;X-ADDRESS=Westside Terrace 501 N Woodburn Drive Dothan AL 36303 United States;X-APPLE-RADIUS=500;X-TITLE=501 N Woodburn Drive:geo:-85.4546006,31.2423912
END:VEVENT
BEGIN:VEVENT
DTSTART;TZID=America/Chicago:20300821T130000
DTEND;TZID=America/Chicago:20300821T130000
DTSTAMP:20260425T174947
CREATED:20250902T180310Z
LAST-MODIFIED:20250902T180310Z
UID:10013366-1913547600-1913547600@www.westsidecares.com
SUMMARY:Table Games (SDR)
DESCRIPTION:
URL:https://www.westsidecares.com/event/table-games-9-2-2-2-5-2-3-2-2-2/2030-08-21/
LOCATION:Westside Terrace\, 501 N Woodburn Drive\, Dothan\, AL\, 36303\, United States
GEO:31.2423912;-85.4546006
X-APPLE-STRUCTURED-LOCATION;VALUE=URI;X-ADDRESS=Westside Terrace 501 N Woodburn Drive Dothan AL 36303 United States;X-APPLE-RADIUS=500;X-TITLE=501 N Woodburn Drive:geo:-85.4546006,31.2423912
END:VEVENT
BEGIN:VEVENT
DTSTART;TZID=America/Chicago:20300821T190000
DTEND;TZID=America/Chicago:20300821T190000
DTSTAMP:20260425T174947
CREATED:20240816T193058Z
LAST-MODIFIED:20240923T135600Z
UID:10013371-1913569200-1913569200@www.westsidecares.com
SUMMARY:Beauty Shop
DESCRIPTION:
URL:https://www.westsidecares.com/event/beauty-shop-2/2030-08-21/
LOCATION:Westside Terrace\, 501 N Woodburn Drive\, Dothan\, AL\, 36303\, United States
CATEGORIES:Full Day w Styling
GEO:31.2423912;-85.4546006
X-APPLE-STRUCTURED-LOCATION;VALUE=URI;X-ADDRESS=Westside Terrace 501 N Woodburn Drive Dothan AL 36303 United States;X-APPLE-RADIUS=500;X-TITLE=501 N Woodburn Drive:geo:-85.4546006,31.2423912
END:VEVENT
BEGIN:VEVENT
DTSTART;TZID=America/Chicago:20300822T093000
DTEND;TZID=America/Chicago:20300822T093000
DTSTAMP:20260425T174947
CREATED:20241226T154712Z
LAST-MODIFIED:20251226T144621Z
UID:10013373-1913621400-1913621400@www.westsidecares.com
SUMMARY:SPA DAY
DESCRIPTION:
URL:https://www.westsidecares.com/event/spa-day-6/2030-08-22/
LOCATION:Westside Terrace\, 501 N Woodburn Drive\, Dothan\, AL\, 36303\, United States
GEO:31.2423912;-85.4546006
X-APPLE-STRUCTURED-LOCATION;VALUE=URI;X-ADDRESS=Westside Terrace 501 N Woodburn Drive Dothan AL 36303 United States;X-APPLE-RADIUS=500;X-TITLE=501 N Woodburn Drive:geo:-85.4546006,31.2423912
END:VEVENT
BEGIN:VEVENT
DTSTART;TZID=America/Chicago:20300822T130000
DTEND;TZID=America/Chicago:20300822T130000
DTSTAMP:20260425T174947
CREATED:20250902T180310Z
LAST-MODIFIED:20250902T180310Z
UID:10013370-1913634000-1913634000@www.westsidecares.com
SUMMARY:Table Games (SDR)
DESCRIPTION:
URL:https://www.westsidecares.com/event/table-games-9-2-2-2-5-2-3-2-2-2/2030-08-22/
LOCATION:Westside Terrace\, 501 N Woodburn Drive\, Dothan\, AL\, 36303\, United States
GEO:31.2423912;-85.4546006
X-APPLE-STRUCTURED-LOCATION;VALUE=URI;X-ADDRESS=Westside Terrace 501 N Woodburn Drive Dothan AL 36303 United States;X-APPLE-RADIUS=500;X-TITLE=501 N Woodburn Drive:geo:-85.4546006,31.2423912
END:VEVENT
BEGIN:VEVENT
DTSTART;TZID=America/Chicago:20300823T100000
DTEND;TZID=America/Chicago:20300823T100000
DTSTAMP:20260425T174947
CREATED:20230131T144018Z
LAST-MODIFIED:20240501T160141Z
UID:10013375-1913709600-1913709600@www.westsidecares.com
SUMMARY:Fitness Friday
DESCRIPTION:
URL:https://www.westsidecares.com/event/fitness-friday/2030-08-23/
LOCATION:Westside Terrace\, 501 N Woodburn Drive\, Dothan\, AL\, 36303\, United States
GEO:31.2423912;-85.4546006
X-APPLE-STRUCTURED-LOCATION;VALUE=URI;X-ADDRESS=Westside Terrace 501 N Woodburn Drive Dothan AL 36303 United States;X-APPLE-RADIUS=500;X-TITLE=501 N Woodburn Drive:geo:-85.4546006,31.2423912
END:VEVENT
BEGIN:VEVENT
DTSTART;TZID=America/Chicago:20300823T130000
DTEND;TZID=America/Chicago:20300823T130000
DTSTAMP:20260425T174947
CREATED:20250902T180310Z
LAST-MODIFIED:20250902T180310Z
UID:10013374-1913720400-1913720400@www.westsidecares.com
SUMMARY:Table Games (SDR)
DESCRIPTION:
URL:https://www.westsidecares.com/event/table-games-9-2-2-2-5-2-3-2-2-2/2030-08-23/
LOCATION:Westside Terrace\, 501 N Woodburn Drive\, Dothan\, AL\, 36303\, United States
GEO:31.2423912;-85.4546006
X-APPLE-STRUCTURED-LOCATION;VALUE=URI;X-ADDRESS=Westside Terrace 501 N Woodburn Drive Dothan AL 36303 United States;X-APPLE-RADIUS=500;X-TITLE=501 N Woodburn Drive:geo:-85.4546006,31.2423912
END:VEVENT
BEGIN:VEVENT
DTSTART;TZID=America/Chicago:20300823T190000
DTEND;TZID=America/Chicago:20300823T190000
DTSTAMP:20260425T174947
CREATED:20240816T193203Z
LAST-MODIFIED:20240816T193203Z
UID:10013377-1913742000-1913742000@www.westsidecares.com
SUMMARY:Beauty Shop
DESCRIPTION:
URL:https://www.westsidecares.com/event/beauty-shop-5/2030-08-23/
LOCATION:Westside Terrace\, 501 N Woodburn Drive\, Dothan\, AL\, 36303\, United States
CATEGORIES:Full Day w Styling
GEO:31.2423912;-85.4546006
X-APPLE-STRUCTURED-LOCATION;VALUE=URI;X-ADDRESS=Westside Terrace 501 N Woodburn Drive Dothan AL 36303 United States;X-APPLE-RADIUS=500;X-TITLE=501 N Woodburn Drive:geo:-85.4546006,31.2423912
END:VEVENT
BEGIN:VEVENT
DTSTART;TZID=America/Chicago:20300824T130000
DTEND;TZID=America/Chicago:20300824T130000
DTSTAMP:20260425T174947
CREATED:20250902T180310Z
LAST-MODIFIED:20250902T180310Z
UID:10013376-1913806800-1913806800@www.westsidecares.com
SUMMARY:Table Games (SDR)
DESCRIPTION:
URL:https://www.westsidecares.com/event/table-games-9-2-2-2-5-2-3-2-2-2/2030-08-24/
LOCATION:Westside Terrace\, 501 N Woodburn Drive\, Dothan\, AL\, 36303\, United States
GEO:31.2423912;-85.4546006
X-APPLE-STRUCTURED-LOCATION;VALUE=URI;X-ADDRESS=Westside Terrace 501 N Woodburn Drive Dothan AL 36303 United States;X-APPLE-RADIUS=500;X-TITLE=501 N Woodburn Drive:geo:-85.4546006,31.2423912
END:VEVENT
BEGIN:VEVENT
DTSTART;TZID=America/Chicago:20300824T140000
DTEND;TZID=America/Chicago:20300824T140000
DTSTAMP:20260425T174947
CREATED:20240320T162444Z
LAST-MODIFIED:20250519T155349Z
UID:10013379-1913810400-1913810400@www.westsidecares.com
SUMMARY:Resident Rights Bingo
DESCRIPTION:
URL:https://www.westsidecares.com/event/resident-rights-bingo-2/2030-08-24/
LOCATION:Westside Terrace\, 501 N Woodburn Drive\, Dothan\, AL\, 36303\, United States
GEO:31.2423912;-85.4546006
X-APPLE-STRUCTURED-LOCATION;VALUE=URI;X-ADDRESS=Westside Terrace 501 N Woodburn Drive Dothan AL 36303 United States;X-APPLE-RADIUS=500;X-TITLE=501 N Woodburn Drive:geo:-85.4546006,31.2423912
END:VEVENT
BEGIN:VEVENT
DTSTART;TZID=America/Chicago:20300825T100000
DTEND;TZID=America/Chicago:20300825T100000
DTSTAMP:20260425T174947
CREATED:20241127T170827Z
LAST-MODIFIED:20241127T170827Z
UID:10013380-1913882400-1913882400@www.westsidecares.com
SUMMARY:Sunday Worship on TV
DESCRIPTION:
URL:https://www.westsidecares.com/event/sunday-worship-2023-02-12-2-2-2/2030-08-25/
LOCATION:Westside Terrace\, 501 N Woodburn Drive\, Dothan\, AL\, 36303\, United States
GEO:31.2423912;-85.4546006
X-APPLE-STRUCTURED-LOCATION;VALUE=URI;X-ADDRESS=Westside Terrace 501 N Woodburn Drive Dothan AL 36303 United States;X-APPLE-RADIUS=500;X-TITLE=501 N Woodburn Drive:geo:-85.4546006,31.2423912
END:VEVENT
END:VCALENDAR