BEGIN:VCALENDAR
VERSION:2.0
PRODID:-//Westside Terrace Healthcare - ECPv6.15.20//NONSGML v1.0//EN
CALSCALE:GREGORIAN
METHOD:PUBLISH
X-WR-CALNAME:Westside Terrace Healthcare
X-ORIGINAL-URL:https://www.westsidecares.com
X-WR-CALDESC:Events for Westside Terrace Healthcare
REFRESH-INTERVAL;VALUE=DURATION:PT1H
X-Robots-Tag:noindex
X-PUBLISHED-TTL:PT1H
BEGIN:VTIMEZONE
TZID:America/Chicago
BEGIN:DAYLIGHT
TZOFFSETFROM:-0600
TZOFFSETTO:-0500
TZNAME:CDT
DTSTART:20290311T080000
END:DAYLIGHT
BEGIN:STANDARD
TZOFFSETFROM:-0500
TZOFFSETTO:-0600
TZNAME:CST
DTSTART:20291104T070000
END:STANDARD
BEGIN:DAYLIGHT
TZOFFSETFROM:-0600
TZOFFSETTO:-0500
TZNAME:CDT
DTSTART:20300310T080000
END:DAYLIGHT
BEGIN:STANDARD
TZOFFSETFROM:-0500
TZOFFSETTO:-0600
TZNAME:CST
DTSTART:20301103T070000
END:STANDARD
BEGIN:DAYLIGHT
TZOFFSETFROM:-0600
TZOFFSETTO:-0500
TZNAME:CDT
DTSTART:20310309T080000
END:DAYLIGHT
BEGIN:STANDARD
TZOFFSETFROM:-0500
TZOFFSETTO:-0600
TZNAME:CST
DTSTART:20311102T070000
END:STANDARD
END:VTIMEZONE
BEGIN:VEVENT
DTSTART;TZID=America/Chicago:20300424T190000
DTEND;TZID=America/Chicago:20300424T190000
DTSTAMP:20260423T165339
CREATED:20240816T193058Z
LAST-MODIFIED:20240923T135600Z
UID:10012887-1903287600-1903287600@www.westsidecares.com
SUMMARY:Beauty Shop
DESCRIPTION:
URL:https://www.westsidecares.com/event/beauty-shop-2/2030-04-24/
LOCATION:Westside Terrace\, 501 N Woodburn Drive\, Dothan\, AL\, 36303\, United States
CATEGORIES:Full Day w Styling
GEO:31.2423912;-85.4546006
X-APPLE-STRUCTURED-LOCATION;VALUE=URI;X-ADDRESS=Westside Terrace 501 N Woodburn Drive Dothan AL 36303 United States;X-APPLE-RADIUS=500;X-TITLE=501 N Woodburn Drive:geo:-85.4546006,31.2423912
END:VEVENT
BEGIN:VEVENT
DTSTART;TZID=America/Chicago:20300425T093000
DTEND;TZID=America/Chicago:20300425T093000
DTSTAMP:20260423T165339
CREATED:20241226T154712Z
LAST-MODIFIED:20251226T144621Z
UID:10013036-1903339800-1903339800@www.westsidecares.com
SUMMARY:SPA DAY
DESCRIPTION:
URL:https://www.westsidecares.com/event/spa-day-6/2030-04-25/
LOCATION:Westside Terrace\, 501 N Woodburn Drive\, Dothan\, AL\, 36303\, United States
GEO:31.2423912;-85.4546006
X-APPLE-STRUCTURED-LOCATION;VALUE=URI;X-ADDRESS=Westside Terrace 501 N Woodburn Drive Dothan AL 36303 United States;X-APPLE-RADIUS=500;X-TITLE=501 N Woodburn Drive:geo:-85.4546006,31.2423912
END:VEVENT
BEGIN:VEVENT
DTSTART;TZID=America/Chicago:20300425T130000
DTEND;TZID=America/Chicago:20300425T130000
DTSTAMP:20260423T165339
CREATED:20250902T180310Z
LAST-MODIFIED:20250902T180310Z
UID:10013170-1903352400-1903352400@www.westsidecares.com
SUMMARY:Table Games (SDR)
DESCRIPTION:
URL:https://www.westsidecares.com/event/table-games-9-2-2-2-5-2-3-2-2-2/2030-04-25/
LOCATION:Westside Terrace\, 501 N Woodburn Drive\, Dothan\, AL\, 36303\, United States
GEO:31.2423912;-85.4546006
X-APPLE-STRUCTURED-LOCATION;VALUE=URI;X-ADDRESS=Westside Terrace 501 N Woodburn Drive Dothan AL 36303 United States;X-APPLE-RADIUS=500;X-TITLE=501 N Woodburn Drive:geo:-85.4546006,31.2423912
END:VEVENT
BEGIN:VEVENT
DTSTART;TZID=America/Chicago:20300426T100000
DTEND;TZID=America/Chicago:20300426T100000
DTSTAMP:20260423T165339
CREATED:20230131T144018Z
LAST-MODIFIED:20240501T160141Z
UID:10012888-1903428000-1903428000@www.westsidecares.com
SUMMARY:Fitness Friday
DESCRIPTION:
URL:https://www.westsidecares.com/event/fitness-friday/2030-04-26/
LOCATION:Westside Terrace\, 501 N Woodburn Drive\, Dothan\, AL\, 36303\, United States
GEO:31.2423912;-85.4546006
X-APPLE-STRUCTURED-LOCATION;VALUE=URI;X-ADDRESS=Westside Terrace 501 N Woodburn Drive Dothan AL 36303 United States;X-APPLE-RADIUS=500;X-TITLE=501 N Woodburn Drive:geo:-85.4546006,31.2423912
END:VEVENT
BEGIN:VEVENT
DTSTART;TZID=America/Chicago:20300426T130000
DTEND;TZID=America/Chicago:20300426T130000
DTSTAMP:20260423T165339
CREATED:20250902T180310Z
LAST-MODIFIED:20250902T180310Z
UID:10013171-1903438800-1903438800@www.westsidecares.com
SUMMARY:Table Games (SDR)
DESCRIPTION:
URL:https://www.westsidecares.com/event/table-games-9-2-2-2-5-2-3-2-2-2/2030-04-26/
LOCATION:Westside Terrace\, 501 N Woodburn Drive\, Dothan\, AL\, 36303\, United States
GEO:31.2423912;-85.4546006
X-APPLE-STRUCTURED-LOCATION;VALUE=URI;X-ADDRESS=Westside Terrace 501 N Woodburn Drive Dothan AL 36303 United States;X-APPLE-RADIUS=500;X-TITLE=501 N Woodburn Drive:geo:-85.4546006,31.2423912
END:VEVENT
BEGIN:VEVENT
DTSTART;TZID=America/Chicago:20300426T190000
DTEND;TZID=America/Chicago:20300426T190000
DTSTAMP:20260423T165339
CREATED:20240816T193203Z
LAST-MODIFIED:20240816T193203Z
UID:10012890-1903460400-1903460400@www.westsidecares.com
SUMMARY:Beauty Shop
DESCRIPTION:
URL:https://www.westsidecares.com/event/beauty-shop-5/2030-04-26/
LOCATION:Westside Terrace\, 501 N Woodburn Drive\, Dothan\, AL\, 36303\, United States
CATEGORIES:Full Day w Styling
GEO:31.2423912;-85.4546006
X-APPLE-STRUCTURED-LOCATION;VALUE=URI;X-ADDRESS=Westside Terrace 501 N Woodburn Drive Dothan AL 36303 United States;X-APPLE-RADIUS=500;X-TITLE=501 N Woodburn Drive:geo:-85.4546006,31.2423912
END:VEVENT
BEGIN:VEVENT
DTSTART;TZID=America/Chicago:20300427T130000
DTEND;TZID=America/Chicago:20300427T130000
DTSTAMP:20260423T165339
CREATED:20250902T180310Z
LAST-MODIFIED:20250902T180310Z
UID:10013172-1903525200-1903525200@www.westsidecares.com
SUMMARY:Table Games (SDR)
DESCRIPTION:
URL:https://www.westsidecares.com/event/table-games-9-2-2-2-5-2-3-2-2-2/2030-04-27/
LOCATION:Westside Terrace\, 501 N Woodburn Drive\, Dothan\, AL\, 36303\, United States
GEO:31.2423912;-85.4546006
X-APPLE-STRUCTURED-LOCATION;VALUE=URI;X-ADDRESS=Westside Terrace 501 N Woodburn Drive Dothan AL 36303 United States;X-APPLE-RADIUS=500;X-TITLE=501 N Woodburn Drive:geo:-85.4546006,31.2423912
END:VEVENT
BEGIN:VEVENT
DTSTART;TZID=America/Chicago:20300427T140000
DTEND;TZID=America/Chicago:20300427T140000
DTSTAMP:20260423T165339
CREATED:20240320T162444Z
LAST-MODIFIED:20250519T155349Z
UID:10012891-1903528800-1903528800@www.westsidecares.com
SUMMARY:Resident Rights Bingo
DESCRIPTION:
URL:https://www.westsidecares.com/event/resident-rights-bingo-2/2030-04-27/
LOCATION:Westside Terrace\, 501 N Woodburn Drive\, Dothan\, AL\, 36303\, United States
GEO:31.2423912;-85.4546006
X-APPLE-STRUCTURED-LOCATION;VALUE=URI;X-ADDRESS=Westside Terrace 501 N Woodburn Drive Dothan AL 36303 United States;X-APPLE-RADIUS=500;X-TITLE=501 N Woodburn Drive:geo:-85.4546006,31.2423912
END:VEVENT
BEGIN:VEVENT
DTSTART;TZID=America/Chicago:20300428T100000
DTEND;TZID=America/Chicago:20300428T100000
DTSTAMP:20260423T165339
CREATED:20241127T170827Z
LAST-MODIFIED:20241127T170827Z
UID:10012892-1903600800-1903600800@www.westsidecares.com
SUMMARY:Sunday Worship on TV
DESCRIPTION:
URL:https://www.westsidecares.com/event/sunday-worship-2023-02-12-2-2-2/2030-04-28/
LOCATION:Westside Terrace\, 501 N Woodburn Drive\, Dothan\, AL\, 36303\, United States
GEO:31.2423912;-85.4546006
X-APPLE-STRUCTURED-LOCATION;VALUE=URI;X-ADDRESS=Westside Terrace 501 N Woodburn Drive Dothan AL 36303 United States;X-APPLE-RADIUS=500;X-TITLE=501 N Woodburn Drive:geo:-85.4546006,31.2423912
END:VEVENT
BEGIN:VEVENT
DTSTART;TZID=America/Chicago:20300428T130000
DTEND;TZID=America/Chicago:20300428T130000
DTSTAMP:20260423T165339
CREATED:20250902T180310Z
LAST-MODIFIED:20250902T180310Z
UID:10013173-1903611600-1903611600@www.westsidecares.com
SUMMARY:Table Games (SDR)
DESCRIPTION:
URL:https://www.westsidecares.com/event/table-games-9-2-2-2-5-2-3-2-2-2/2030-04-28/
LOCATION:Westside Terrace\, 501 N Woodburn Drive\, Dothan\, AL\, 36303\, United States
GEO:31.2423912;-85.4546006
X-APPLE-STRUCTURED-LOCATION;VALUE=URI;X-ADDRESS=Westside Terrace 501 N Woodburn Drive Dothan AL 36303 United States;X-APPLE-RADIUS=500;X-TITLE=501 N Woodburn Drive:geo:-85.4546006,31.2423912
END:VEVENT
BEGIN:VEVENT
DTSTART;TZID=America/Chicago:20300429T100000
DTEND;TZID=America/Chicago:20300429T100000
DTSTAMP:20260423T165339
CREATED:20250902T185412Z
LAST-MODIFIED:20250902T185412Z
UID:10013019-1903687200-1903687200@www.westsidecares.com
SUMMARY:Praise & Worship with Bro. Daulton
DESCRIPTION:
URL:https://www.westsidecares.com/event/praise-worship-with-dalton-2-2-2-2-2/2030-04-29/
LOCATION:Westside Terrace\, 501 N Woodburn Drive\, Dothan\, AL\, 36303\, United States
GEO:31.2423912;-85.4546006
X-APPLE-STRUCTURED-LOCATION;VALUE=URI;X-ADDRESS=Westside Terrace 501 N Woodburn Drive Dothan AL 36303 United States;X-APPLE-RADIUS=500;X-TITLE=501 N Woodburn Drive:geo:-85.4546006,31.2423912
END:VEVENT
BEGIN:VEVENT
DTSTART;TZID=America/Chicago:20300429T130000
DTEND;TZID=America/Chicago:20300429T130000
DTSTAMP:20260423T165339
CREATED:20250902T180310Z
LAST-MODIFIED:20250902T180310Z
UID:10013174-1903698000-1903698000@www.westsidecares.com
SUMMARY:Table Games (SDR)
DESCRIPTION:
URL:https://www.westsidecares.com/event/table-games-9-2-2-2-5-2-3-2-2-2/2030-04-29/
LOCATION:Westside Terrace\, 501 N Woodburn Drive\, Dothan\, AL\, 36303\, United States
GEO:31.2423912;-85.4546006
X-APPLE-STRUCTURED-LOCATION;VALUE=URI;X-ADDRESS=Westside Terrace 501 N Woodburn Drive Dothan AL 36303 United States;X-APPLE-RADIUS=500;X-TITLE=501 N Woodburn Drive:geo:-85.4546006,31.2423912
END:VEVENT
BEGIN:VEVENT
DTSTART;TZID=America/Chicago:20300429T190000
DTEND;TZID=America/Chicago:20300429T190000
DTSTAMP:20260423T165339
CREATED:20240816T184329Z
LAST-MODIFIED:20240816T192828Z
UID:10012895-1903719600-1903719600@www.westsidecares.com
SUMMARY:Beauty Shop
DESCRIPTION:
URL:https://www.westsidecares.com/event/beauty-shop-3-3/2030-04-29/
LOCATION:Westside Terrace\, 501 N Woodburn Drive\, Dothan\, AL\, 36303\, United States
CATEGORIES:Full Day w Styling
GEO:31.2423912;-85.4546006
X-APPLE-STRUCTURED-LOCATION;VALUE=URI;X-ADDRESS=Westside Terrace 501 N Woodburn Drive Dothan AL 36303 United States;X-APPLE-RADIUS=500;X-TITLE=501 N Woodburn Drive:geo:-85.4546006,31.2423912
END:VEVENT
BEGIN:VEVENT
DTSTART;TZID=America/Chicago:20300430T093000
DTEND;TZID=America/Chicago:20300430T093000
DTSTAMP:20260423T165339
CREATED:20240618T143810Z
LAST-MODIFIED:20240618T143810Z
UID:10012896-1903771800-1903771800@www.westsidecares.com
SUMMARY:Sensory
DESCRIPTION:
URL:https://www.westsidecares.com/event/sensory-2-2/2030-04-30/
LOCATION:Westside Terrace\, 501 N Woodburn Drive\, Dothan\, AL\, 36303\, United States
GEO:31.2423912;-85.4546006
X-APPLE-STRUCTURED-LOCATION;VALUE=URI;X-ADDRESS=Westside Terrace 501 N Woodburn Drive Dothan AL 36303 United States;X-APPLE-RADIUS=500;X-TITLE=501 N Woodburn Drive:geo:-85.4546006,31.2423912
END:VEVENT
BEGIN:VEVENT
DTSTART;TZID=America/Chicago:20300430T093000
DTEND;TZID=America/Chicago:20300430T093000
DTSTAMP:20260423T165339
CREATED:20241226T154151Z
LAST-MODIFIED:20241226T160001Z
UID:10012897-1903771800-1903771800@www.westsidecares.com
SUMMARY:Gospel Hour
DESCRIPTION:
URL:https://www.westsidecares.com/event/gospel-hour-5/2030-04-30/
LOCATION:Westside Terrace\, 501 N Woodburn Drive\, Dothan\, AL\, 36303\, United States
GEO:31.2423912;-85.4546006
X-APPLE-STRUCTURED-LOCATION;VALUE=URI;X-ADDRESS=Westside Terrace 501 N Woodburn Drive Dothan AL 36303 United States;X-APPLE-RADIUS=500;X-TITLE=501 N Woodburn Drive:geo:-85.4546006,31.2423912
END:VEVENT
BEGIN:VEVENT
DTSTART;TZID=America/Chicago:20300430T130000
DTEND;TZID=America/Chicago:20300430T130000
DTSTAMP:20260423T165339
CREATED:20250902T180310Z
LAST-MODIFIED:20250902T180310Z
UID:10013175-1903784400-1903784400@www.westsidecares.com
SUMMARY:Table Games (SDR)
DESCRIPTION:
URL:https://www.westsidecares.com/event/table-games-9-2-2-2-5-2-3-2-2-2/2030-04-30/
LOCATION:Westside Terrace\, 501 N Woodburn Drive\, Dothan\, AL\, 36303\, United States
GEO:31.2423912;-85.4546006
X-APPLE-STRUCTURED-LOCATION;VALUE=URI;X-ADDRESS=Westside Terrace 501 N Woodburn Drive Dothan AL 36303 United States;X-APPLE-RADIUS=500;X-TITLE=501 N Woodburn Drive:geo:-85.4546006,31.2423912
END:VEVENT
BEGIN:VEVENT
DTSTART;TZID=America/Chicago:20300430T190000
DTEND;TZID=America/Chicago:20300430T190000
DTSTAMP:20260423T165339
CREATED:20240816T192425Z
LAST-MODIFIED:20240816T192723Z
UID:10012898-1903806000-1903806000@www.westsidecares.com
SUMMARY:Beauty Shop
DESCRIPTION:
URL:https://www.westsidecares.com/event/beauty-shop-4-3-2/2030-04-30/
LOCATION:Westside Terrace\, 501 N Woodburn Drive\, Dothan\, AL\, 36303\, United States
CATEGORIES:Full Day w Styling
GEO:31.2423912;-85.4546006
X-APPLE-STRUCTURED-LOCATION;VALUE=URI;X-ADDRESS=Westside Terrace 501 N Woodburn Drive Dothan AL 36303 United States;X-APPLE-RADIUS=500;X-TITLE=501 N Woodburn Drive:geo:-85.4546006,31.2423912
END:VEVENT
BEGIN:VEVENT
DTSTART;TZID=America/Chicago:20300501T093000
DTEND;TZID=America/Chicago:20300501T093000
DTSTAMP:20260423T165339
CREATED:20240618T143906Z
LAST-MODIFIED:20240618T143907Z
UID:10012899-1903858200-1903858200@www.westsidecares.com
SUMMARY:Sensory
DESCRIPTION:
URL:https://www.westsidecares.com/event/small-groups-2-2/2030-05-01/
LOCATION:Westside Terrace\, 501 N Woodburn Drive\, Dothan\, AL\, 36303\, United States
GEO:31.2423912;-85.4546006
X-APPLE-STRUCTURED-LOCATION;VALUE=URI;X-ADDRESS=Westside Terrace 501 N Woodburn Drive Dothan AL 36303 United States;X-APPLE-RADIUS=500;X-TITLE=501 N Woodburn Drive:geo:-85.4546006,31.2423912
END:VEVENT
BEGIN:VEVENT
DTSTART;TZID=America/Chicago:20300501T100000
DTEND;TZID=America/Chicago:20300501T100000
DTSTAMP:20260423T165339
CREATED:20240320T163554Z
LAST-MODIFIED:20240501T155714Z
UID:10012900-1903860000-1903860000@www.westsidecares.com
SUMMARY:Wednesday Church
DESCRIPTION:
URL:https://www.westsidecares.com/event/wednesday-church-3/2030-05-01/
LOCATION:Westside Terrace\, 501 N Woodburn Drive\, Dothan\, AL\, 36303\, United States
GEO:31.2423912;-85.4546006
X-APPLE-STRUCTURED-LOCATION;VALUE=URI;X-ADDRESS=Westside Terrace 501 N Woodburn Drive Dothan AL 36303 United States;X-APPLE-RADIUS=500;X-TITLE=501 N Woodburn Drive:geo:-85.4546006,31.2423912
END:VEVENT
BEGIN:VEVENT
DTSTART;TZID=America/Chicago:20300501T130000
DTEND;TZID=America/Chicago:20300501T130000
DTSTAMP:20260423T165339
CREATED:20250902T180310Z
LAST-MODIFIED:20250902T180310Z
UID:10013176-1903870800-1903870800@www.westsidecares.com
SUMMARY:Table Games (SDR)
DESCRIPTION:
URL:https://www.westsidecares.com/event/table-games-9-2-2-2-5-2-3-2-2-2/2030-05-01/
LOCATION:Westside Terrace\, 501 N Woodburn Drive\, Dothan\, AL\, 36303\, United States
GEO:31.2423912;-85.4546006
X-APPLE-STRUCTURED-LOCATION;VALUE=URI;X-ADDRESS=Westside Terrace 501 N Woodburn Drive Dothan AL 36303 United States;X-APPLE-RADIUS=500;X-TITLE=501 N Woodburn Drive:geo:-85.4546006,31.2423912
END:VEVENT
BEGIN:VEVENT
DTSTART;TZID=America/Chicago:20300501T190000
DTEND;TZID=America/Chicago:20300501T190000
DTSTAMP:20260423T165339
CREATED:20240816T193058Z
LAST-MODIFIED:20240923T135600Z
UID:10012901-1903892400-1903892400@www.westsidecares.com
SUMMARY:Beauty Shop
DESCRIPTION:
URL:https://www.westsidecares.com/event/beauty-shop-2/2030-05-01/
LOCATION:Westside Terrace\, 501 N Woodburn Drive\, Dothan\, AL\, 36303\, United States
CATEGORIES:Full Day w Styling
GEO:31.2423912;-85.4546006
X-APPLE-STRUCTURED-LOCATION;VALUE=URI;X-ADDRESS=Westside Terrace 501 N Woodburn Drive Dothan AL 36303 United States;X-APPLE-RADIUS=500;X-TITLE=501 N Woodburn Drive:geo:-85.4546006,31.2423912
END:VEVENT
BEGIN:VEVENT
DTSTART;TZID=America/Chicago:20300502T100000
DTEND;TZID=America/Chicago:20300502T100000
DTSTAMP:20260423T165339
CREATED:20240320T163724Z
LAST-MODIFIED:20240320T172355Z
UID:10012903-1903946400-1903946400@www.westsidecares.com
SUMMARY:Music with Walter Wilson
DESCRIPTION:
URL:https://www.westsidecares.com/event/music-with-walter-wilson/2030-05-02/
LOCATION:Westside Terrace\, 501 N Woodburn Drive\, Dothan\, AL\, 36303\, United States
GEO:31.2423912;-85.4546006
X-APPLE-STRUCTURED-LOCATION;VALUE=URI;X-ADDRESS=Westside Terrace 501 N Woodburn Drive Dothan AL 36303 United States;X-APPLE-RADIUS=500;X-TITLE=501 N Woodburn Drive:geo:-85.4546006,31.2423912
END:VEVENT
BEGIN:VEVENT
DTSTART;TZID=America/Chicago:20300502T130000
DTEND;TZID=America/Chicago:20300502T130000
DTSTAMP:20260423T165339
CREATED:20250902T180310Z
LAST-MODIFIED:20250902T180310Z
UID:10013177-1903957200-1903957200@www.westsidecares.com
SUMMARY:Table Games (SDR)
DESCRIPTION:
URL:https://www.westsidecares.com/event/table-games-9-2-2-2-5-2-3-2-2-2/2030-05-02/
LOCATION:Westside Terrace\, 501 N Woodburn Drive\, Dothan\, AL\, 36303\, United States
GEO:31.2423912;-85.4546006
X-APPLE-STRUCTURED-LOCATION;VALUE=URI;X-ADDRESS=Westside Terrace 501 N Woodburn Drive Dothan AL 36303 United States;X-APPLE-RADIUS=500;X-TITLE=501 N Woodburn Drive:geo:-85.4546006,31.2423912
END:VEVENT
BEGIN:VEVENT
DTSTART;TZID=America/Chicago:20300502T140000
DTEND;TZID=America/Chicago:20300502T140000
DTSTAMP:20260423T165339
CREATED:20240320T163757Z
LAST-MODIFIED:20240320T172421Z
UID:10012905-1903960800-1903960800@www.westsidecares.com
SUMMARY:Music with Bobby Folds
DESCRIPTION:
URL:https://www.westsidecares.com/event/music-with-bobby-folds/2030-05-02/
LOCATION:Westside Terrace\, 501 N Woodburn Drive\, Dothan\, AL\, 36303\, United States
GEO:31.2423912;-85.4546006
X-APPLE-STRUCTURED-LOCATION;VALUE=URI;X-ADDRESS=Westside Terrace 501 N Woodburn Drive Dothan AL 36303 United States;X-APPLE-RADIUS=500;X-TITLE=501 N Woodburn Drive:geo:-85.4546006,31.2423912
END:VEVENT
BEGIN:VEVENT
DTSTART;TZID=America/Chicago:20300503T100000
DTEND;TZID=America/Chicago:20300503T100000
DTSTAMP:20260423T165339
CREATED:20230131T144018Z
LAST-MODIFIED:20240501T160141Z
UID:10012906-1904032800-1904032800@www.westsidecares.com
SUMMARY:Fitness Friday
DESCRIPTION:
URL:https://www.westsidecares.com/event/fitness-friday/2030-05-03/
LOCATION:Westside Terrace\, 501 N Woodburn Drive\, Dothan\, AL\, 36303\, United States
GEO:31.2423912;-85.4546006
X-APPLE-STRUCTURED-LOCATION;VALUE=URI;X-ADDRESS=Westside Terrace 501 N Woodburn Drive Dothan AL 36303 United States;X-APPLE-RADIUS=500;X-TITLE=501 N Woodburn Drive:geo:-85.4546006,31.2423912
END:VEVENT
BEGIN:VEVENT
DTSTART;TZID=America/Chicago:20300503T130000
DTEND;TZID=America/Chicago:20300503T130000
DTSTAMP:20260423T165339
CREATED:20250902T180310Z
LAST-MODIFIED:20250902T180310Z
UID:10013178-1904043600-1904043600@www.westsidecares.com
SUMMARY:Table Games (SDR)
DESCRIPTION:
URL:https://www.westsidecares.com/event/table-games-9-2-2-2-5-2-3-2-2-2/2030-05-03/
LOCATION:Westside Terrace\, 501 N Woodburn Drive\, Dothan\, AL\, 36303\, United States
GEO:31.2423912;-85.4546006
X-APPLE-STRUCTURED-LOCATION;VALUE=URI;X-ADDRESS=Westside Terrace 501 N Woodburn Drive Dothan AL 36303 United States;X-APPLE-RADIUS=500;X-TITLE=501 N Woodburn Drive:geo:-85.4546006,31.2423912
END:VEVENT
BEGIN:VEVENT
DTSTART;TZID=America/Chicago:20300503T190000
DTEND;TZID=America/Chicago:20300503T190000
DTSTAMP:20260423T165339
CREATED:20240816T193203Z
LAST-MODIFIED:20240816T193203Z
UID:10012908-1904065200-1904065200@www.westsidecares.com
SUMMARY:Beauty Shop
DESCRIPTION:
URL:https://www.westsidecares.com/event/beauty-shop-5/2030-05-03/
LOCATION:Westside Terrace\, 501 N Woodburn Drive\, Dothan\, AL\, 36303\, United States
CATEGORIES:Full Day w Styling
GEO:31.2423912;-85.4546006
X-APPLE-STRUCTURED-LOCATION;VALUE=URI;X-ADDRESS=Westside Terrace 501 N Woodburn Drive Dothan AL 36303 United States;X-APPLE-RADIUS=500;X-TITLE=501 N Woodburn Drive:geo:-85.4546006,31.2423912
END:VEVENT
BEGIN:VEVENT
DTSTART;TZID=America/Chicago:20300504T130000
DTEND;TZID=America/Chicago:20300504T130000
DTSTAMP:20260423T165339
CREATED:20250902T180310Z
LAST-MODIFIED:20250902T180310Z
UID:10013179-1904130000-1904130000@www.westsidecares.com
SUMMARY:Table Games (SDR)
DESCRIPTION:
URL:https://www.westsidecares.com/event/table-games-9-2-2-2-5-2-3-2-2-2/2030-05-04/
LOCATION:Westside Terrace\, 501 N Woodburn Drive\, Dothan\, AL\, 36303\, United States
GEO:31.2423912;-85.4546006
X-APPLE-STRUCTURED-LOCATION;VALUE=URI;X-ADDRESS=Westside Terrace 501 N Woodburn Drive Dothan AL 36303 United States;X-APPLE-RADIUS=500;X-TITLE=501 N Woodburn Drive:geo:-85.4546006,31.2423912
END:VEVENT
BEGIN:VEVENT
DTSTART;TZID=America/Chicago:20300504T140000
DTEND;TZID=America/Chicago:20300504T140000
DTSTAMP:20260423T165339
CREATED:20240320T162444Z
LAST-MODIFIED:20250519T155349Z
UID:10012909-1904133600-1904133600@www.westsidecares.com
SUMMARY:Resident Rights Bingo
DESCRIPTION:
URL:https://www.westsidecares.com/event/resident-rights-bingo-2/2030-05-04/
LOCATION:Westside Terrace\, 501 N Woodburn Drive\, Dothan\, AL\, 36303\, United States
GEO:31.2423912;-85.4546006
X-APPLE-STRUCTURED-LOCATION;VALUE=URI;X-ADDRESS=Westside Terrace 501 N Woodburn Drive Dothan AL 36303 United States;X-APPLE-RADIUS=500;X-TITLE=501 N Woodburn Drive:geo:-85.4546006,31.2423912
END:VEVENT
BEGIN:VEVENT
DTSTART;TZID=America/Chicago:20300505T100000
DTEND;TZID=America/Chicago:20300505T100000
DTSTAMP:20260423T165339
CREATED:20241127T170827Z
LAST-MODIFIED:20241127T170827Z
UID:10012910-1904205600-1904205600@www.westsidecares.com
SUMMARY:Sunday Worship on TV
DESCRIPTION:
URL:https://www.westsidecares.com/event/sunday-worship-2023-02-12-2-2-2/2030-05-05/
LOCATION:Westside Terrace\, 501 N Woodburn Drive\, Dothan\, AL\, 36303\, United States
GEO:31.2423912;-85.4546006
X-APPLE-STRUCTURED-LOCATION;VALUE=URI;X-ADDRESS=Westside Terrace 501 N Woodburn Drive Dothan AL 36303 United States;X-APPLE-RADIUS=500;X-TITLE=501 N Woodburn Drive:geo:-85.4546006,31.2423912
END:VEVENT
END:VCALENDAR