BEGIN:VCALENDAR
VERSION:2.0
PRODID:-//Westside Terrace Healthcare - ECPv6.15.20//NONSGML v1.0//EN
CALSCALE:GREGORIAN
METHOD:PUBLISH
X-WR-CALNAME:Westside Terrace Healthcare
X-ORIGINAL-URL:https://www.westsidecares.com
X-WR-CALDESC:Events for Westside Terrace Healthcare
REFRESH-INTERVAL;VALUE=DURATION:PT1H
X-Robots-Tag:noindex
X-PUBLISHED-TTL:PT1H
BEGIN:VTIMEZONE
TZID:America/Chicago
BEGIN:DAYLIGHT
TZOFFSETFROM:-0600
TZOFFSETTO:-0500
TZNAME:CDT
DTSTART:20290311T080000
END:DAYLIGHT
BEGIN:STANDARD
TZOFFSETFROM:-0500
TZOFFSETTO:-0600
TZNAME:CST
DTSTART:20291104T070000
END:STANDARD
BEGIN:DAYLIGHT
TZOFFSETFROM:-0600
TZOFFSETTO:-0500
TZNAME:CDT
DTSTART:20300310T080000
END:DAYLIGHT
BEGIN:STANDARD
TZOFFSETFROM:-0500
TZOFFSETTO:-0600
TZNAME:CST
DTSTART:20301103T070000
END:STANDARD
BEGIN:DAYLIGHT
TZOFFSETFROM:-0600
TZOFFSETTO:-0500
TZNAME:CDT
DTSTART:20310309T080000
END:DAYLIGHT
BEGIN:STANDARD
TZOFFSETFROM:-0500
TZOFFSETTO:-0600
TZNAME:CST
DTSTART:20311102T070000
END:STANDARD
END:VTIMEZONE
BEGIN:VEVENT
DTSTART;TZID=America/Chicago:20300328T093000
DTEND;TZID=America/Chicago:20300328T093000
DTSTAMP:20260423T063426
CREATED:20241226T154712Z
LAST-MODIFIED:20251226T144621Z
UID:10012870-1900920600-1900920600@www.westsidecares.com
SUMMARY:SPA DAY
DESCRIPTION:
URL:https://www.westsidecares.com/event/spa-day-6/2030-03-28/
LOCATION:Westside Terrace\, 501 N Woodburn Drive\, Dothan\, AL\, 36303\, United States
GEO:31.2423912;-85.4546006
X-APPLE-STRUCTURED-LOCATION;VALUE=URI;X-ADDRESS=Westside Terrace 501 N Woodburn Drive Dothan AL 36303 United States;X-APPLE-RADIUS=500;X-TITLE=501 N Woodburn Drive:geo:-85.4546006,31.2423912
END:VEVENT
BEGIN:VEVENT
DTSTART;TZID=America/Chicago:20300328T130000
DTEND;TZID=America/Chicago:20300328T130000
DTSTAMP:20260423T063426
CREATED:20250902T180310Z
LAST-MODIFIED:20250902T180310Z
UID:10013142-1900933200-1900933200@www.westsidecares.com
SUMMARY:Table Games (SDR)
DESCRIPTION:
URL:https://www.westsidecares.com/event/table-games-9-2-2-2-5-2-3-2-2-2/2030-03-28/
LOCATION:Westside Terrace\, 501 N Woodburn Drive\, Dothan\, AL\, 36303\, United States
GEO:31.2423912;-85.4546006
X-APPLE-STRUCTURED-LOCATION;VALUE=URI;X-ADDRESS=Westside Terrace 501 N Woodburn Drive Dothan AL 36303 United States;X-APPLE-RADIUS=500;X-TITLE=501 N Woodburn Drive:geo:-85.4546006,31.2423912
END:VEVENT
BEGIN:VEVENT
DTSTART;TZID=America/Chicago:20300329T100000
DTEND;TZID=America/Chicago:20300329T100000
DTSTAMP:20260423T063426
CREATED:20230131T144018Z
LAST-MODIFIED:20240501T160141Z
UID:10012808-1901008800-1901008800@www.westsidecares.com
SUMMARY:Fitness Friday
DESCRIPTION:
URL:https://www.westsidecares.com/event/fitness-friday/2030-03-29/
LOCATION:Westside Terrace\, 501 N Woodburn Drive\, Dothan\, AL\, 36303\, United States
GEO:31.2423912;-85.4546006
X-APPLE-STRUCTURED-LOCATION;VALUE=URI;X-ADDRESS=Westside Terrace 501 N Woodburn Drive Dothan AL 36303 United States;X-APPLE-RADIUS=500;X-TITLE=501 N Woodburn Drive:geo:-85.4546006,31.2423912
END:VEVENT
BEGIN:VEVENT
DTSTART;TZID=America/Chicago:20300329T130000
DTEND;TZID=America/Chicago:20300329T130000
DTSTAMP:20260423T063426
CREATED:20250902T180310Z
LAST-MODIFIED:20250902T180310Z
UID:10013143-1901019600-1901019600@www.westsidecares.com
SUMMARY:Table Games (SDR)
DESCRIPTION:
URL:https://www.westsidecares.com/event/table-games-9-2-2-2-5-2-3-2-2-2/2030-03-29/
LOCATION:Westside Terrace\, 501 N Woodburn Drive\, Dothan\, AL\, 36303\, United States
GEO:31.2423912;-85.4546006
X-APPLE-STRUCTURED-LOCATION;VALUE=URI;X-ADDRESS=Westside Terrace 501 N Woodburn Drive Dothan AL 36303 United States;X-APPLE-RADIUS=500;X-TITLE=501 N Woodburn Drive:geo:-85.4546006,31.2423912
END:VEVENT
BEGIN:VEVENT
DTSTART;TZID=America/Chicago:20300329T190000
DTEND;TZID=America/Chicago:20300329T190000
DTSTAMP:20260423T063426
CREATED:20240816T193203Z
LAST-MODIFIED:20240816T193203Z
UID:10012810-1901041200-1901041200@www.westsidecares.com
SUMMARY:Beauty Shop
DESCRIPTION:
URL:https://www.westsidecares.com/event/beauty-shop-5/2030-03-29/
LOCATION:Westside Terrace\, 501 N Woodburn Drive\, Dothan\, AL\, 36303\, United States
CATEGORIES:Full Day w Styling
GEO:31.2423912;-85.4546006
X-APPLE-STRUCTURED-LOCATION;VALUE=URI;X-ADDRESS=Westside Terrace 501 N Woodburn Drive Dothan AL 36303 United States;X-APPLE-RADIUS=500;X-TITLE=501 N Woodburn Drive:geo:-85.4546006,31.2423912
END:VEVENT
BEGIN:VEVENT
DTSTART;TZID=America/Chicago:20300330T130000
DTEND;TZID=America/Chicago:20300330T130000
DTSTAMP:20260423T063426
CREATED:20250902T180310Z
LAST-MODIFIED:20250902T180310Z
UID:10013144-1901106000-1901106000@www.westsidecares.com
SUMMARY:Table Games (SDR)
DESCRIPTION:
URL:https://www.westsidecares.com/event/table-games-9-2-2-2-5-2-3-2-2-2/2030-03-30/
LOCATION:Westside Terrace\, 501 N Woodburn Drive\, Dothan\, AL\, 36303\, United States
GEO:31.2423912;-85.4546006
X-APPLE-STRUCTURED-LOCATION;VALUE=URI;X-ADDRESS=Westside Terrace 501 N Woodburn Drive Dothan AL 36303 United States;X-APPLE-RADIUS=500;X-TITLE=501 N Woodburn Drive:geo:-85.4546006,31.2423912
END:VEVENT
BEGIN:VEVENT
DTSTART;TZID=America/Chicago:20300330T140000
DTEND;TZID=America/Chicago:20300330T140000
DTSTAMP:20260423T063426
CREATED:20240320T162444Z
LAST-MODIFIED:20250519T155349Z
UID:10012812-1901109600-1901109600@www.westsidecares.com
SUMMARY:Resident Rights Bingo
DESCRIPTION:
URL:https://www.westsidecares.com/event/resident-rights-bingo-2/2030-03-30/
LOCATION:Westside Terrace\, 501 N Woodburn Drive\, Dothan\, AL\, 36303\, United States
GEO:31.2423912;-85.4546006
X-APPLE-STRUCTURED-LOCATION;VALUE=URI;X-ADDRESS=Westside Terrace 501 N Woodburn Drive Dothan AL 36303 United States;X-APPLE-RADIUS=500;X-TITLE=501 N Woodburn Drive:geo:-85.4546006,31.2423912
END:VEVENT
BEGIN:VEVENT
DTSTART;TZID=America/Chicago:20300331T100000
DTEND;TZID=America/Chicago:20300331T100000
DTSTAMP:20260423T063426
CREATED:20241127T170827Z
LAST-MODIFIED:20241127T170827Z
UID:10012813-1901181600-1901181600@www.westsidecares.com
SUMMARY:Sunday Worship on TV
DESCRIPTION:
URL:https://www.westsidecares.com/event/sunday-worship-2023-02-12-2-2-2/2030-03-31/
LOCATION:Westside Terrace\, 501 N Woodburn Drive\, Dothan\, AL\, 36303\, United States
GEO:31.2423912;-85.4546006
X-APPLE-STRUCTURED-LOCATION;VALUE=URI;X-ADDRESS=Westside Terrace 501 N Woodburn Drive Dothan AL 36303 United States;X-APPLE-RADIUS=500;X-TITLE=501 N Woodburn Drive:geo:-85.4546006,31.2423912
END:VEVENT
BEGIN:VEVENT
DTSTART;TZID=America/Chicago:20300331T130000
DTEND;TZID=America/Chicago:20300331T130000
DTSTAMP:20260423T063426
CREATED:20250902T180310Z
LAST-MODIFIED:20250902T180310Z
UID:10013145-1901192400-1901192400@www.westsidecares.com
SUMMARY:Table Games (SDR)
DESCRIPTION:
URL:https://www.westsidecares.com/event/table-games-9-2-2-2-5-2-3-2-2-2/2030-03-31/
LOCATION:Westside Terrace\, 501 N Woodburn Drive\, Dothan\, AL\, 36303\, United States
GEO:31.2423912;-85.4546006
X-APPLE-STRUCTURED-LOCATION;VALUE=URI;X-ADDRESS=Westside Terrace 501 N Woodburn Drive Dothan AL 36303 United States;X-APPLE-RADIUS=500;X-TITLE=501 N Woodburn Drive:geo:-85.4546006,31.2423912
END:VEVENT
BEGIN:VEVENT
DTSTART;TZID=America/Chicago:20300401T130000
DTEND;TZID=America/Chicago:20300401T130000
DTSTAMP:20260423T063426
CREATED:20250902T180310Z
LAST-MODIFIED:20250902T180310Z
UID:10013146-1901278800-1901278800@www.westsidecares.com
SUMMARY:Table Games (SDR)
DESCRIPTION:
URL:https://www.westsidecares.com/event/table-games-9-2-2-2-5-2-3-2-2-2/2030-04-01/
LOCATION:Westside Terrace\, 501 N Woodburn Drive\, Dothan\, AL\, 36303\, United States
GEO:31.2423912;-85.4546006
X-APPLE-STRUCTURED-LOCATION;VALUE=URI;X-ADDRESS=Westside Terrace 501 N Woodburn Drive Dothan AL 36303 United States;X-APPLE-RADIUS=500;X-TITLE=501 N Woodburn Drive:geo:-85.4546006,31.2423912
END:VEVENT
BEGIN:VEVENT
DTSTART;TZID=America/Chicago:20300401T190000
DTEND;TZID=America/Chicago:20300401T190000
DTSTAMP:20260423T063426
CREATED:20240816T184329Z
LAST-MODIFIED:20240816T192828Z
UID:10012816-1901300400-1901300400@www.westsidecares.com
SUMMARY:Beauty Shop
DESCRIPTION:
URL:https://www.westsidecares.com/event/beauty-shop-3-3/2030-04-01/
LOCATION:Westside Terrace\, 501 N Woodburn Drive\, Dothan\, AL\, 36303\, United States
CATEGORIES:Full Day w Styling
GEO:31.2423912;-85.4546006
X-APPLE-STRUCTURED-LOCATION;VALUE=URI;X-ADDRESS=Westside Terrace 501 N Woodburn Drive Dothan AL 36303 United States;X-APPLE-RADIUS=500;X-TITLE=501 N Woodburn Drive:geo:-85.4546006,31.2423912
END:VEVENT
BEGIN:VEVENT
DTSTART;TZID=America/Chicago:20300402T093000
DTEND;TZID=America/Chicago:20300402T093000
DTSTAMP:20260423T063426
CREATED:20240618T143810Z
LAST-MODIFIED:20240618T143810Z
UID:10012817-1901352600-1901352600@www.westsidecares.com
SUMMARY:Sensory
DESCRIPTION:
URL:https://www.westsidecares.com/event/sensory-2-2/2030-04-02/
LOCATION:Westside Terrace\, 501 N Woodburn Drive\, Dothan\, AL\, 36303\, United States
GEO:31.2423912;-85.4546006
X-APPLE-STRUCTURED-LOCATION;VALUE=URI;X-ADDRESS=Westside Terrace 501 N Woodburn Drive Dothan AL 36303 United States;X-APPLE-RADIUS=500;X-TITLE=501 N Woodburn Drive:geo:-85.4546006,31.2423912
END:VEVENT
BEGIN:VEVENT
DTSTART;TZID=America/Chicago:20300402T093000
DTEND;TZID=America/Chicago:20300402T093000
DTSTAMP:20260423T063426
CREATED:20241226T154151Z
LAST-MODIFIED:20241226T160001Z
UID:10012831-1901352600-1901352600@www.westsidecares.com
SUMMARY:Gospel Hour
DESCRIPTION:
URL:https://www.westsidecares.com/event/gospel-hour-5/2030-04-02/
LOCATION:Westside Terrace\, 501 N Woodburn Drive\, Dothan\, AL\, 36303\, United States
GEO:31.2423912;-85.4546006
X-APPLE-STRUCTURED-LOCATION;VALUE=URI;X-ADDRESS=Westside Terrace 501 N Woodburn Drive Dothan AL 36303 United States;X-APPLE-RADIUS=500;X-TITLE=501 N Woodburn Drive:geo:-85.4546006,31.2423912
END:VEVENT
BEGIN:VEVENT
DTSTART;TZID=America/Chicago:20300402T130000
DTEND;TZID=America/Chicago:20300402T130000
DTSTAMP:20260423T063426
CREATED:20250902T180310Z
LAST-MODIFIED:20250902T180310Z
UID:10013147-1901365200-1901365200@www.westsidecares.com
SUMMARY:Table Games (SDR)
DESCRIPTION:
URL:https://www.westsidecares.com/event/table-games-9-2-2-2-5-2-3-2-2-2/2030-04-02/
LOCATION:Westside Terrace\, 501 N Woodburn Drive\, Dothan\, AL\, 36303\, United States
GEO:31.2423912;-85.4546006
X-APPLE-STRUCTURED-LOCATION;VALUE=URI;X-ADDRESS=Westside Terrace 501 N Woodburn Drive Dothan AL 36303 United States;X-APPLE-RADIUS=500;X-TITLE=501 N Woodburn Drive:geo:-85.4546006,31.2423912
END:VEVENT
BEGIN:VEVENT
DTSTART;TZID=America/Chicago:20300402T190000
DTEND;TZID=America/Chicago:20300402T190000
DTSTAMP:20260423T063426
CREATED:20240816T192425Z
LAST-MODIFIED:20240816T192723Z
UID:10012832-1901386800-1901386800@www.westsidecares.com
SUMMARY:Beauty Shop
DESCRIPTION:
URL:https://www.westsidecares.com/event/beauty-shop-4-3-2/2030-04-02/
LOCATION:Westside Terrace\, 501 N Woodburn Drive\, Dothan\, AL\, 36303\, United States
CATEGORIES:Full Day w Styling
GEO:31.2423912;-85.4546006
X-APPLE-STRUCTURED-LOCATION;VALUE=URI;X-ADDRESS=Westside Terrace 501 N Woodburn Drive Dothan AL 36303 United States;X-APPLE-RADIUS=500;X-TITLE=501 N Woodburn Drive:geo:-85.4546006,31.2423912
END:VEVENT
BEGIN:VEVENT
DTSTART;TZID=America/Chicago:20300403T093000
DTEND;TZID=America/Chicago:20300403T093000
DTSTAMP:20260423T063426
CREATED:20240618T143906Z
LAST-MODIFIED:20240618T143907Z
UID:10012833-1901439000-1901439000@www.westsidecares.com
SUMMARY:Sensory
DESCRIPTION:
URL:https://www.westsidecares.com/event/small-groups-2-2/2030-04-03/
LOCATION:Westside Terrace\, 501 N Woodburn Drive\, Dothan\, AL\, 36303\, United States
GEO:31.2423912;-85.4546006
X-APPLE-STRUCTURED-LOCATION;VALUE=URI;X-ADDRESS=Westside Terrace 501 N Woodburn Drive Dothan AL 36303 United States;X-APPLE-RADIUS=500;X-TITLE=501 N Woodburn Drive:geo:-85.4546006,31.2423912
END:VEVENT
BEGIN:VEVENT
DTSTART;TZID=America/Chicago:20300403T100000
DTEND;TZID=America/Chicago:20300403T100000
DTSTAMP:20260423T063426
CREATED:20240320T163554Z
LAST-MODIFIED:20240501T155714Z
UID:10012834-1901440800-1901440800@www.westsidecares.com
SUMMARY:Wednesday Church
DESCRIPTION:
URL:https://www.westsidecares.com/event/wednesday-church-3/2030-04-03/
LOCATION:Westside Terrace\, 501 N Woodburn Drive\, Dothan\, AL\, 36303\, United States
GEO:31.2423912;-85.4546006
X-APPLE-STRUCTURED-LOCATION;VALUE=URI;X-ADDRESS=Westside Terrace 501 N Woodburn Drive Dothan AL 36303 United States;X-APPLE-RADIUS=500;X-TITLE=501 N Woodburn Drive:geo:-85.4546006,31.2423912
END:VEVENT
BEGIN:VEVENT
DTSTART;TZID=America/Chicago:20300403T130000
DTEND;TZID=America/Chicago:20300403T130000
DTSTAMP:20260423T063426
CREATED:20250902T180310Z
LAST-MODIFIED:20250902T180310Z
UID:10013148-1901451600-1901451600@www.westsidecares.com
SUMMARY:Table Games (SDR)
DESCRIPTION:
URL:https://www.westsidecares.com/event/table-games-9-2-2-2-5-2-3-2-2-2/2030-04-03/
LOCATION:Westside Terrace\, 501 N Woodburn Drive\, Dothan\, AL\, 36303\, United States
GEO:31.2423912;-85.4546006
X-APPLE-STRUCTURED-LOCATION;VALUE=URI;X-ADDRESS=Westside Terrace 501 N Woodburn Drive Dothan AL 36303 United States;X-APPLE-RADIUS=500;X-TITLE=501 N Woodburn Drive:geo:-85.4546006,31.2423912
END:VEVENT
BEGIN:VEVENT
DTSTART;TZID=America/Chicago:20300403T190000
DTEND;TZID=America/Chicago:20300403T190000
DTSTAMP:20260423T063426
CREATED:20240816T193058Z
LAST-MODIFIED:20240923T135600Z
UID:10012835-1901473200-1901473200@www.westsidecares.com
SUMMARY:Beauty Shop
DESCRIPTION:
URL:https://www.westsidecares.com/event/beauty-shop-2/2030-04-03/
LOCATION:Westside Terrace\, 501 N Woodburn Drive\, Dothan\, AL\, 36303\, United States
CATEGORIES:Full Day w Styling
GEO:31.2423912;-85.4546006
X-APPLE-STRUCTURED-LOCATION;VALUE=URI;X-ADDRESS=Westside Terrace 501 N Woodburn Drive Dothan AL 36303 United States;X-APPLE-RADIUS=500;X-TITLE=501 N Woodburn Drive:geo:-85.4546006,31.2423912
END:VEVENT
BEGIN:VEVENT
DTSTART;TZID=America/Chicago:20300404T100000
DTEND;TZID=America/Chicago:20300404T100000
DTSTAMP:20260423T063426
CREATED:20240320T163724Z
LAST-MODIFIED:20240320T172355Z
UID:10012902-1901527200-1901527200@www.westsidecares.com
SUMMARY:Music with Walter Wilson
DESCRIPTION:
URL:https://www.westsidecares.com/event/music-with-walter-wilson/2030-04-04/
LOCATION:Westside Terrace\, 501 N Woodburn Drive\, Dothan\, AL\, 36303\, United States
GEO:31.2423912;-85.4546006
X-APPLE-STRUCTURED-LOCATION;VALUE=URI;X-ADDRESS=Westside Terrace 501 N Woodburn Drive Dothan AL 36303 United States;X-APPLE-RADIUS=500;X-TITLE=501 N Woodburn Drive:geo:-85.4546006,31.2423912
END:VEVENT
BEGIN:VEVENT
DTSTART;TZID=America/Chicago:20300404T130000
DTEND;TZID=America/Chicago:20300404T130000
DTSTAMP:20260423T063426
CREATED:20250902T180310Z
LAST-MODIFIED:20250902T180310Z
UID:10013149-1901538000-1901538000@www.westsidecares.com
SUMMARY:Table Games (SDR)
DESCRIPTION:
URL:https://www.westsidecares.com/event/table-games-9-2-2-2-5-2-3-2-2-2/2030-04-04/
LOCATION:Westside Terrace\, 501 N Woodburn Drive\, Dothan\, AL\, 36303\, United States
GEO:31.2423912;-85.4546006
X-APPLE-STRUCTURED-LOCATION;VALUE=URI;X-ADDRESS=Westside Terrace 501 N Woodburn Drive Dothan AL 36303 United States;X-APPLE-RADIUS=500;X-TITLE=501 N Woodburn Drive:geo:-85.4546006,31.2423912
END:VEVENT
BEGIN:VEVENT
DTSTART;TZID=America/Chicago:20300404T140000
DTEND;TZID=America/Chicago:20300404T140000
DTSTAMP:20260423T063426
CREATED:20240320T163757Z
LAST-MODIFIED:20240320T172421Z
UID:10012904-1901541600-1901541600@www.westsidecares.com
SUMMARY:Music with Bobby Folds
DESCRIPTION:
URL:https://www.westsidecares.com/event/music-with-bobby-folds/2030-04-04/
LOCATION:Westside Terrace\, 501 N Woodburn Drive\, Dothan\, AL\, 36303\, United States
GEO:31.2423912;-85.4546006
X-APPLE-STRUCTURED-LOCATION;VALUE=URI;X-ADDRESS=Westside Terrace 501 N Woodburn Drive Dothan AL 36303 United States;X-APPLE-RADIUS=500;X-TITLE=501 N Woodburn Drive:geo:-85.4546006,31.2423912
END:VEVENT
BEGIN:VEVENT
DTSTART;TZID=America/Chicago:20300405T100000
DTEND;TZID=America/Chicago:20300405T100000
DTSTAMP:20260423T063426
CREATED:20230131T144018Z
LAST-MODIFIED:20240501T160141Z
UID:10012836-1901613600-1901613600@www.westsidecares.com
SUMMARY:Fitness Friday
DESCRIPTION:
URL:https://www.westsidecares.com/event/fitness-friday/2030-04-05/
LOCATION:Westside Terrace\, 501 N Woodburn Drive\, Dothan\, AL\, 36303\, United States
GEO:31.2423912;-85.4546006
X-APPLE-STRUCTURED-LOCATION;VALUE=URI;X-ADDRESS=Westside Terrace 501 N Woodburn Drive Dothan AL 36303 United States;X-APPLE-RADIUS=500;X-TITLE=501 N Woodburn Drive:geo:-85.4546006,31.2423912
END:VEVENT
BEGIN:VEVENT
DTSTART;TZID=America/Chicago:20300405T130000
DTEND;TZID=America/Chicago:20300405T130000
DTSTAMP:20260423T063426
CREATED:20250902T180310Z
LAST-MODIFIED:20250902T180310Z
UID:10013150-1901624400-1901624400@www.westsidecares.com
SUMMARY:Table Games (SDR)
DESCRIPTION:
URL:https://www.westsidecares.com/event/table-games-9-2-2-2-5-2-3-2-2-2/2030-04-05/
LOCATION:Westside Terrace\, 501 N Woodburn Drive\, Dothan\, AL\, 36303\, United States
GEO:31.2423912;-85.4546006
X-APPLE-STRUCTURED-LOCATION;VALUE=URI;X-ADDRESS=Westside Terrace 501 N Woodburn Drive Dothan AL 36303 United States;X-APPLE-RADIUS=500;X-TITLE=501 N Woodburn Drive:geo:-85.4546006,31.2423912
END:VEVENT
BEGIN:VEVENT
DTSTART;TZID=America/Chicago:20300405T190000
DTEND;TZID=America/Chicago:20300405T190000
DTSTAMP:20260423T063426
CREATED:20240816T193203Z
LAST-MODIFIED:20240816T193203Z
UID:10012838-1901646000-1901646000@www.westsidecares.com
SUMMARY:Beauty Shop
DESCRIPTION:
URL:https://www.westsidecares.com/event/beauty-shop-5/2030-04-05/
LOCATION:Westside Terrace\, 501 N Woodburn Drive\, Dothan\, AL\, 36303\, United States
CATEGORIES:Full Day w Styling
GEO:31.2423912;-85.4546006
X-APPLE-STRUCTURED-LOCATION;VALUE=URI;X-ADDRESS=Westside Terrace 501 N Woodburn Drive Dothan AL 36303 United States;X-APPLE-RADIUS=500;X-TITLE=501 N Woodburn Drive:geo:-85.4546006,31.2423912
END:VEVENT
BEGIN:VEVENT
DTSTART;TZID=America/Chicago:20300406T130000
DTEND;TZID=America/Chicago:20300406T130000
DTSTAMP:20260423T063426
CREATED:20250902T180310Z
LAST-MODIFIED:20250902T180310Z
UID:10013151-1901710800-1901710800@www.westsidecares.com
SUMMARY:Table Games (SDR)
DESCRIPTION:
URL:https://www.westsidecares.com/event/table-games-9-2-2-2-5-2-3-2-2-2/2030-04-06/
LOCATION:Westside Terrace\, 501 N Woodburn Drive\, Dothan\, AL\, 36303\, United States
GEO:31.2423912;-85.4546006
X-APPLE-STRUCTURED-LOCATION;VALUE=URI;X-ADDRESS=Westside Terrace 501 N Woodburn Drive Dothan AL 36303 United States;X-APPLE-RADIUS=500;X-TITLE=501 N Woodburn Drive:geo:-85.4546006,31.2423912
END:VEVENT
BEGIN:VEVENT
DTSTART;TZID=America/Chicago:20300406T140000
DTEND;TZID=America/Chicago:20300406T140000
DTSTAMP:20260423T063426
CREATED:20240320T162444Z
LAST-MODIFIED:20250519T155349Z
UID:10012839-1901714400-1901714400@www.westsidecares.com
SUMMARY:Resident Rights Bingo
DESCRIPTION:
URL:https://www.westsidecares.com/event/resident-rights-bingo-2/2030-04-06/
LOCATION:Westside Terrace\, 501 N Woodburn Drive\, Dothan\, AL\, 36303\, United States
GEO:31.2423912;-85.4546006
X-APPLE-STRUCTURED-LOCATION;VALUE=URI;X-ADDRESS=Westside Terrace 501 N Woodburn Drive Dothan AL 36303 United States;X-APPLE-RADIUS=500;X-TITLE=501 N Woodburn Drive:geo:-85.4546006,31.2423912
END:VEVENT
BEGIN:VEVENT
DTSTART;TZID=America/Chicago:20300407T100000
DTEND;TZID=America/Chicago:20300407T100000
DTSTAMP:20260423T063426
CREATED:20241127T170827Z
LAST-MODIFIED:20241127T170827Z
UID:10012840-1901786400-1901786400@www.westsidecares.com
SUMMARY:Sunday Worship on TV
DESCRIPTION:
URL:https://www.westsidecares.com/event/sunday-worship-2023-02-12-2-2-2/2030-04-07/
LOCATION:Westside Terrace\, 501 N Woodburn Drive\, Dothan\, AL\, 36303\, United States
GEO:31.2423912;-85.4546006
X-APPLE-STRUCTURED-LOCATION;VALUE=URI;X-ADDRESS=Westside Terrace 501 N Woodburn Drive Dothan AL 36303 United States;X-APPLE-RADIUS=500;X-TITLE=501 N Woodburn Drive:geo:-85.4546006,31.2423912
END:VEVENT
BEGIN:VEVENT
DTSTART;TZID=America/Chicago:20300407T130000
DTEND;TZID=America/Chicago:20300407T130000
DTSTAMP:20260423T063426
CREATED:20250902T180310Z
LAST-MODIFIED:20250902T180310Z
UID:10013152-1901797200-1901797200@www.westsidecares.com
SUMMARY:Table Games (SDR)
DESCRIPTION:
URL:https://www.westsidecares.com/event/table-games-9-2-2-2-5-2-3-2-2-2/2030-04-07/
LOCATION:Westside Terrace\, 501 N Woodburn Drive\, Dothan\, AL\, 36303\, United States
GEO:31.2423912;-85.4546006
X-APPLE-STRUCTURED-LOCATION;VALUE=URI;X-ADDRESS=Westside Terrace 501 N Woodburn Drive Dothan AL 36303 United States;X-APPLE-RADIUS=500;X-TITLE=501 N Woodburn Drive:geo:-85.4546006,31.2423912
END:VEVENT
BEGIN:VEVENT
DTSTART;TZID=America/Chicago:20300408T130000
DTEND;TZID=America/Chicago:20300408T130000
DTSTAMP:20260423T063426
CREATED:20250902T180310Z
LAST-MODIFIED:20250902T180310Z
UID:10013153-1901883600-1901883600@www.westsidecares.com
SUMMARY:Table Games (SDR)
DESCRIPTION:
URL:https://www.westsidecares.com/event/table-games-9-2-2-2-5-2-3-2-2-2/2030-04-08/
LOCATION:Westside Terrace\, 501 N Woodburn Drive\, Dothan\, AL\, 36303\, United States
GEO:31.2423912;-85.4546006
X-APPLE-STRUCTURED-LOCATION;VALUE=URI;X-ADDRESS=Westside Terrace 501 N Woodburn Drive Dothan AL 36303 United States;X-APPLE-RADIUS=500;X-TITLE=501 N Woodburn Drive:geo:-85.4546006,31.2423912
END:VEVENT
END:VCALENDAR