BEGIN:VCALENDAR
VERSION:2.0
PRODID:-//Westside Terrace Healthcare - ECPv6.15.20//NONSGML v1.0//EN
CALSCALE:GREGORIAN
METHOD:PUBLISH
X-WR-CALNAME:Westside Terrace Healthcare
X-ORIGINAL-URL:https://www.westsidecares.com
X-WR-CALDESC:Events for Westside Terrace Healthcare
REFRESH-INTERVAL;VALUE=DURATION:PT1H
X-Robots-Tag:noindex
X-PUBLISHED-TTL:PT1H
BEGIN:VTIMEZONE
TZID:America/Chicago
BEGIN:DAYLIGHT
TZOFFSETFROM:-0600
TZOFFSETTO:-0500
TZNAME:CDT
DTSTART:20290311T080000
END:DAYLIGHT
BEGIN:STANDARD
TZOFFSETFROM:-0500
TZOFFSETTO:-0600
TZNAME:CST
DTSTART:20291104T070000
END:STANDARD
BEGIN:DAYLIGHT
TZOFFSETFROM:-0600
TZOFFSETTO:-0500
TZNAME:CDT
DTSTART:20300310T080000
END:DAYLIGHT
BEGIN:STANDARD
TZOFFSETFROM:-0500
TZOFFSETTO:-0600
TZNAME:CST
DTSTART:20301103T070000
END:STANDARD
BEGIN:DAYLIGHT
TZOFFSETFROM:-0600
TZOFFSETTO:-0500
TZNAME:CDT
DTSTART:20310309T080000
END:DAYLIGHT
BEGIN:STANDARD
TZOFFSETFROM:-0500
TZOFFSETTO:-0600
TZNAME:CST
DTSTART:20311102T070000
END:STANDARD
END:VTIMEZONE
BEGIN:VEVENT
DTSTART;TZID=America/Chicago:20300315T130000
DTEND;TZID=America/Chicago:20300315T130000
DTSTAMP:20260423T012210
CREATED:20250902T180310Z
LAST-MODIFIED:20250902T180310Z
UID:10012741-1899810000-1899810000@www.westsidecares.com
SUMMARY:Table Games (SDR)
DESCRIPTION:
URL:https://www.westsidecares.com/event/table-games-9-2-2-2-5-2-3-2-2-2/2030-03-15/
LOCATION:Westside Terrace\, 501 N Woodburn Drive\, Dothan\, AL\, 36303\, United States
GEO:31.2423912;-85.4546006
X-APPLE-STRUCTURED-LOCATION;VALUE=URI;X-ADDRESS=Westside Terrace 501 N Woodburn Drive Dothan AL 36303 United States;X-APPLE-RADIUS=500;X-TITLE=501 N Woodburn Drive:geo:-85.4546006,31.2423912
END:VEVENT
BEGIN:VEVENT
DTSTART;TZID=America/Chicago:20300315T190000
DTEND;TZID=America/Chicago:20300315T190000
DTSTAMP:20260423T012210
CREATED:20240816T193203Z
LAST-MODIFIED:20240816T193203Z
UID:10012786-1899831600-1899831600@www.westsidecares.com
SUMMARY:Beauty Shop
DESCRIPTION:
URL:https://www.westsidecares.com/event/beauty-shop-5/2030-03-15/
LOCATION:Westside Terrace\, 501 N Woodburn Drive\, Dothan\, AL\, 36303\, United States
CATEGORIES:Full Day w Styling
GEO:31.2423912;-85.4546006
X-APPLE-STRUCTURED-LOCATION;VALUE=URI;X-ADDRESS=Westside Terrace 501 N Woodburn Drive Dothan AL 36303 United States;X-APPLE-RADIUS=500;X-TITLE=501 N Woodburn Drive:geo:-85.4546006,31.2423912
END:VEVENT
BEGIN:VEVENT
DTSTART;TZID=America/Chicago:20300316T130000
DTEND;TZID=America/Chicago:20300316T130000
DTSTAMP:20260423T012210
CREATED:20250902T180310Z
LAST-MODIFIED:20250902T180310Z
UID:10012742-1899896400-1899896400@www.westsidecares.com
SUMMARY:Table Games (SDR)
DESCRIPTION:
URL:https://www.westsidecares.com/event/table-games-9-2-2-2-5-2-3-2-2-2/2030-03-16/
LOCATION:Westside Terrace\, 501 N Woodburn Drive\, Dothan\, AL\, 36303\, United States
GEO:31.2423912;-85.4546006
X-APPLE-STRUCTURED-LOCATION;VALUE=URI;X-ADDRESS=Westside Terrace 501 N Woodburn Drive Dothan AL 36303 United States;X-APPLE-RADIUS=500;X-TITLE=501 N Woodburn Drive:geo:-85.4546006,31.2423912
END:VEVENT
BEGIN:VEVENT
DTSTART;TZID=America/Chicago:20300316T140000
DTEND;TZID=America/Chicago:20300316T140000
DTSTAMP:20260423T012210
CREATED:20240320T162444Z
LAST-MODIFIED:20250519T155349Z
UID:10012788-1899900000-1899900000@www.westsidecares.com
SUMMARY:Resident Rights Bingo
DESCRIPTION:
URL:https://www.westsidecares.com/event/resident-rights-bingo-2/2030-03-16/
LOCATION:Westside Terrace\, 501 N Woodburn Drive\, Dothan\, AL\, 36303\, United States
GEO:31.2423912;-85.4546006
X-APPLE-STRUCTURED-LOCATION;VALUE=URI;X-ADDRESS=Westside Terrace 501 N Woodburn Drive Dothan AL 36303 United States;X-APPLE-RADIUS=500;X-TITLE=501 N Woodburn Drive:geo:-85.4546006,31.2423912
END:VEVENT
BEGIN:VEVENT
DTSTART;TZID=America/Chicago:20300317T100000
DTEND;TZID=America/Chicago:20300317T100000
DTSTAMP:20260423T012210
CREATED:20241127T170827Z
LAST-MODIFIED:20241127T170827Z
UID:10012789-1899972000-1899972000@www.westsidecares.com
SUMMARY:Sunday Worship on TV
DESCRIPTION:
URL:https://www.westsidecares.com/event/sunday-worship-2023-02-12-2-2-2/2030-03-17/
LOCATION:Westside Terrace\, 501 N Woodburn Drive\, Dothan\, AL\, 36303\, United States
GEO:31.2423912;-85.4546006
X-APPLE-STRUCTURED-LOCATION;VALUE=URI;X-ADDRESS=Westside Terrace 501 N Woodburn Drive Dothan AL 36303 United States;X-APPLE-RADIUS=500;X-TITLE=501 N Woodburn Drive:geo:-85.4546006,31.2423912
END:VEVENT
BEGIN:VEVENT
DTSTART;TZID=America/Chicago:20300317T130000
DTEND;TZID=America/Chicago:20300317T130000
DTSTAMP:20260423T012210
CREATED:20250902T180310Z
LAST-MODIFIED:20250902T180310Z
UID:10012743-1899982800-1899982800@www.westsidecares.com
SUMMARY:Table Games (SDR)
DESCRIPTION:
URL:https://www.westsidecares.com/event/table-games-9-2-2-2-5-2-3-2-2-2/2030-03-17/
LOCATION:Westside Terrace\, 501 N Woodburn Drive\, Dothan\, AL\, 36303\, United States
GEO:31.2423912;-85.4546006
X-APPLE-STRUCTURED-LOCATION;VALUE=URI;X-ADDRESS=Westside Terrace 501 N Woodburn Drive Dothan AL 36303 United States;X-APPLE-RADIUS=500;X-TITLE=501 N Woodburn Drive:geo:-85.4546006,31.2423912
END:VEVENT
BEGIN:VEVENT
DTSTART;TZID=America/Chicago:20300318T130000
DTEND;TZID=America/Chicago:20300318T130000
DTSTAMP:20260423T012210
CREATED:20250902T180310Z
LAST-MODIFIED:20250902T180310Z
UID:10012744-1900069200-1900069200@www.westsidecares.com
SUMMARY:Table Games (SDR)
DESCRIPTION:
URL:https://www.westsidecares.com/event/table-games-9-2-2-2-5-2-3-2-2-2/2030-03-18/
LOCATION:Westside Terrace\, 501 N Woodburn Drive\, Dothan\, AL\, 36303\, United States
GEO:31.2423912;-85.4546006
X-APPLE-STRUCTURED-LOCATION;VALUE=URI;X-ADDRESS=Westside Terrace 501 N Woodburn Drive Dothan AL 36303 United States;X-APPLE-RADIUS=500;X-TITLE=501 N Woodburn Drive:geo:-85.4546006,31.2423912
END:VEVENT
BEGIN:VEVENT
DTSTART;TZID=America/Chicago:20300318T140000
DTEND;TZID=America/Chicago:20300318T140000
DTSTAMP:20260423T012210
CREATED:20240320T170155Z
LAST-MODIFIED:20240320T170155Z
UID:10012857-1900072800-1900072800@www.westsidecares.com
SUMMARY:Music with Lil Jimmy Reed (Bluesman)
DESCRIPTION:
URL:https://www.westsidecares.com/event/music-with-lil-jimmy-reed-bluesman/2030-03-18/
LOCATION:Westside Terrace\, 501 N Woodburn Drive\, Dothan\, AL\, 36303\, United States
GEO:31.2423912;-85.4546006
X-APPLE-STRUCTURED-LOCATION;VALUE=URI;X-ADDRESS=Westside Terrace 501 N Woodburn Drive Dothan AL 36303 United States;X-APPLE-RADIUS=500;X-TITLE=501 N Woodburn Drive:geo:-85.4546006,31.2423912
END:VEVENT
BEGIN:VEVENT
DTSTART;TZID=America/Chicago:20300318T190000
DTEND;TZID=America/Chicago:20300318T190000
DTSTAMP:20260423T012210
CREATED:20240816T184329Z
LAST-MODIFIED:20240816T192828Z
UID:10012790-1900090800-1900090800@www.westsidecares.com
SUMMARY:Beauty Shop
DESCRIPTION:
URL:https://www.westsidecares.com/event/beauty-shop-3-3/2030-03-18/
LOCATION:Westside Terrace\, 501 N Woodburn Drive\, Dothan\, AL\, 36303\, United States
CATEGORIES:Full Day w Styling
GEO:31.2423912;-85.4546006
X-APPLE-STRUCTURED-LOCATION;VALUE=URI;X-ADDRESS=Westside Terrace 501 N Woodburn Drive Dothan AL 36303 United States;X-APPLE-RADIUS=500;X-TITLE=501 N Woodburn Drive:geo:-85.4546006,31.2423912
END:VEVENT
BEGIN:VEVENT
DTSTART;TZID=America/Chicago:20300319T093000
DTEND;TZID=America/Chicago:20300319T093000
DTSTAMP:20260423T012210
CREATED:20240618T143810Z
LAST-MODIFIED:20240618T143810Z
UID:10012791-1900143000-1900143000@www.westsidecares.com
SUMMARY:Sensory
DESCRIPTION:
URL:https://www.westsidecares.com/event/sensory-2-2/2030-03-19/
LOCATION:Westside Terrace\, 501 N Woodburn Drive\, Dothan\, AL\, 36303\, United States
GEO:31.2423912;-85.4546006
X-APPLE-STRUCTURED-LOCATION;VALUE=URI;X-ADDRESS=Westside Terrace 501 N Woodburn Drive Dothan AL 36303 United States;X-APPLE-RADIUS=500;X-TITLE=501 N Woodburn Drive:geo:-85.4546006,31.2423912
END:VEVENT
BEGIN:VEVENT
DTSTART;TZID=America/Chicago:20300319T093000
DTEND;TZID=America/Chicago:20300319T093000
DTSTAMP:20260423T012210
CREATED:20241226T154151Z
LAST-MODIFIED:20241226T160001Z
UID:10012829-1900143000-1900143000@www.westsidecares.com
SUMMARY:Gospel Hour
DESCRIPTION:
URL:https://www.westsidecares.com/event/gospel-hour-5/2030-03-19/
LOCATION:Westside Terrace\, 501 N Woodburn Drive\, Dothan\, AL\, 36303\, United States
GEO:31.2423912;-85.4546006
X-APPLE-STRUCTURED-LOCATION;VALUE=URI;X-ADDRESS=Westside Terrace 501 N Woodburn Drive Dothan AL 36303 United States;X-APPLE-RADIUS=500;X-TITLE=501 N Woodburn Drive:geo:-85.4546006,31.2423912
END:VEVENT
BEGIN:VEVENT
DTSTART;TZID=America/Chicago:20300319T130000
DTEND;TZID=America/Chicago:20300319T130000
DTSTAMP:20260423T012210
CREATED:20250902T180310Z
LAST-MODIFIED:20250902T180310Z
UID:10012745-1900155600-1900155600@www.westsidecares.com
SUMMARY:Table Games (SDR)
DESCRIPTION:
URL:https://www.westsidecares.com/event/table-games-9-2-2-2-5-2-3-2-2-2/2030-03-19/
LOCATION:Westside Terrace\, 501 N Woodburn Drive\, Dothan\, AL\, 36303\, United States
GEO:31.2423912;-85.4546006
X-APPLE-STRUCTURED-LOCATION;VALUE=URI;X-ADDRESS=Westside Terrace 501 N Woodburn Drive Dothan AL 36303 United States;X-APPLE-RADIUS=500;X-TITLE=501 N Woodburn Drive:geo:-85.4546006,31.2423912
END:VEVENT
BEGIN:VEVENT
DTSTART;TZID=America/Chicago:20300319T190000
DTEND;TZID=America/Chicago:20300319T190000
DTSTAMP:20260423T012210
CREATED:20240816T192425Z
LAST-MODIFIED:20240816T192723Z
UID:10012792-1900177200-1900177200@www.westsidecares.com
SUMMARY:Beauty Shop
DESCRIPTION:
URL:https://www.westsidecares.com/event/beauty-shop-4-3-2/2030-03-19/
LOCATION:Westside Terrace\, 501 N Woodburn Drive\, Dothan\, AL\, 36303\, United States
CATEGORIES:Full Day w Styling
GEO:31.2423912;-85.4546006
X-APPLE-STRUCTURED-LOCATION;VALUE=URI;X-ADDRESS=Westside Terrace 501 N Woodburn Drive Dothan AL 36303 United States;X-APPLE-RADIUS=500;X-TITLE=501 N Woodburn Drive:geo:-85.4546006,31.2423912
END:VEVENT
BEGIN:VEVENT
DTSTART;TZID=America/Chicago:20300320T093000
DTEND;TZID=America/Chicago:20300320T093000
DTSTAMP:20260423T012210
CREATED:20240618T143906Z
LAST-MODIFIED:20240618T143907Z
UID:10012801-1900229400-1900229400@www.westsidecares.com
SUMMARY:Sensory
DESCRIPTION:
URL:https://www.westsidecares.com/event/small-groups-2-2/2030-03-20/
LOCATION:Westside Terrace\, 501 N Woodburn Drive\, Dothan\, AL\, 36303\, United States
GEO:31.2423912;-85.4546006
X-APPLE-STRUCTURED-LOCATION;VALUE=URI;X-ADDRESS=Westside Terrace 501 N Woodburn Drive Dothan AL 36303 United States;X-APPLE-RADIUS=500;X-TITLE=501 N Woodburn Drive:geo:-85.4546006,31.2423912
END:VEVENT
BEGIN:VEVENT
DTSTART;TZID=America/Chicago:20300320T100000
DTEND;TZID=America/Chicago:20300320T100000
DTSTAMP:20260423T012210
CREATED:20240320T163554Z
LAST-MODIFIED:20240501T155714Z
UID:10012803-1900231200-1900231200@www.westsidecares.com
SUMMARY:Wednesday Church
DESCRIPTION:
URL:https://www.westsidecares.com/event/wednesday-church-3/2030-03-20/
LOCATION:Westside Terrace\, 501 N Woodburn Drive\, Dothan\, AL\, 36303\, United States
GEO:31.2423912;-85.4546006
X-APPLE-STRUCTURED-LOCATION;VALUE=URI;X-ADDRESS=Westside Terrace 501 N Woodburn Drive Dothan AL 36303 United States;X-APPLE-RADIUS=500;X-TITLE=501 N Woodburn Drive:geo:-85.4546006,31.2423912
END:VEVENT
BEGIN:VEVENT
DTSTART;TZID=America/Chicago:20300320T130000
DTEND;TZID=America/Chicago:20300320T130000
DTSTAMP:20260423T012210
CREATED:20250902T180310Z
LAST-MODIFIED:20250902T180310Z
UID:10012746-1900242000-1900242000@www.westsidecares.com
SUMMARY:Table Games (SDR)
DESCRIPTION:
URL:https://www.westsidecares.com/event/table-games-9-2-2-2-5-2-3-2-2-2/2030-03-20/
LOCATION:Westside Terrace\, 501 N Woodburn Drive\, Dothan\, AL\, 36303\, United States
GEO:31.2423912;-85.4546006
X-APPLE-STRUCTURED-LOCATION;VALUE=URI;X-ADDRESS=Westside Terrace 501 N Woodburn Drive Dothan AL 36303 United States;X-APPLE-RADIUS=500;X-TITLE=501 N Woodburn Drive:geo:-85.4546006,31.2423912
END:VEVENT
BEGIN:VEVENT
DTSTART;TZID=America/Chicago:20300320T190000
DTEND;TZID=America/Chicago:20300320T190000
DTSTAMP:20260423T012210
CREATED:20240816T193058Z
LAST-MODIFIED:20240923T135600Z
UID:10012793-1900263600-1900263600@www.westsidecares.com
SUMMARY:Beauty Shop
DESCRIPTION:
URL:https://www.westsidecares.com/event/beauty-shop-2/2030-03-20/
LOCATION:Westside Terrace\, 501 N Woodburn Drive\, Dothan\, AL\, 36303\, United States
CATEGORIES:Full Day w Styling
GEO:31.2423912;-85.4546006
X-APPLE-STRUCTURED-LOCATION;VALUE=URI;X-ADDRESS=Westside Terrace 501 N Woodburn Drive Dothan AL 36303 United States;X-APPLE-RADIUS=500;X-TITLE=501 N Woodburn Drive:geo:-85.4546006,31.2423912
END:VEVENT
BEGIN:VEVENT
DTSTART;TZID=America/Chicago:20300321T130000
DTEND;TZID=America/Chicago:20300321T130000
DTSTAMP:20260423T012210
CREATED:20250902T180310Z
LAST-MODIFIED:20250902T180310Z
UID:10013135-1900328400-1900328400@www.westsidecares.com
SUMMARY:Table Games (SDR)
DESCRIPTION:
URL:https://www.westsidecares.com/event/table-games-9-2-2-2-5-2-3-2-2-2/2030-03-21/
LOCATION:Westside Terrace\, 501 N Woodburn Drive\, Dothan\, AL\, 36303\, United States
GEO:31.2423912;-85.4546006
X-APPLE-STRUCTURED-LOCATION;VALUE=URI;X-ADDRESS=Westside Terrace 501 N Woodburn Drive Dothan AL 36303 United States;X-APPLE-RADIUS=500;X-TITLE=501 N Woodburn Drive:geo:-85.4546006,31.2423912
END:VEVENT
BEGIN:VEVENT
DTSTART;TZID=America/Chicago:20300322T100000
DTEND;TZID=America/Chicago:20300322T100000
DTSTAMP:20260423T012210
CREATED:20230131T144018Z
LAST-MODIFIED:20240501T160141Z
UID:10012794-1900404000-1900404000@www.westsidecares.com
SUMMARY:Fitness Friday
DESCRIPTION:
URL:https://www.westsidecares.com/event/fitness-friday/2030-03-22/
LOCATION:Westside Terrace\, 501 N Woodburn Drive\, Dothan\, AL\, 36303\, United States
GEO:31.2423912;-85.4546006
X-APPLE-STRUCTURED-LOCATION;VALUE=URI;X-ADDRESS=Westside Terrace 501 N Woodburn Drive Dothan AL 36303 United States;X-APPLE-RADIUS=500;X-TITLE=501 N Woodburn Drive:geo:-85.4546006,31.2423912
END:VEVENT
BEGIN:VEVENT
DTSTART;TZID=America/Chicago:20300322T130000
DTEND;TZID=America/Chicago:20300322T130000
DTSTAMP:20260423T012210
CREATED:20250902T180310Z
LAST-MODIFIED:20250902T180310Z
UID:10013136-1900414800-1900414800@www.westsidecares.com
SUMMARY:Table Games (SDR)
DESCRIPTION:
URL:https://www.westsidecares.com/event/table-games-9-2-2-2-5-2-3-2-2-2/2030-03-22/
LOCATION:Westside Terrace\, 501 N Woodburn Drive\, Dothan\, AL\, 36303\, United States
GEO:31.2423912;-85.4546006
X-APPLE-STRUCTURED-LOCATION;VALUE=URI;X-ADDRESS=Westside Terrace 501 N Woodburn Drive Dothan AL 36303 United States;X-APPLE-RADIUS=500;X-TITLE=501 N Woodburn Drive:geo:-85.4546006,31.2423912
END:VEVENT
BEGIN:VEVENT
DTSTART;TZID=America/Chicago:20300322T190000
DTEND;TZID=America/Chicago:20300322T190000
DTSTAMP:20260423T012210
CREATED:20240816T193203Z
LAST-MODIFIED:20240816T193203Z
UID:10012796-1900436400-1900436400@www.westsidecares.com
SUMMARY:Beauty Shop
DESCRIPTION:
URL:https://www.westsidecares.com/event/beauty-shop-5/2030-03-22/
LOCATION:Westside Terrace\, 501 N Woodburn Drive\, Dothan\, AL\, 36303\, United States
CATEGORIES:Full Day w Styling
GEO:31.2423912;-85.4546006
X-APPLE-STRUCTURED-LOCATION;VALUE=URI;X-ADDRESS=Westside Terrace 501 N Woodburn Drive Dothan AL 36303 United States;X-APPLE-RADIUS=500;X-TITLE=501 N Woodburn Drive:geo:-85.4546006,31.2423912
END:VEVENT
BEGIN:VEVENT
DTSTART;TZID=America/Chicago:20300323T130000
DTEND;TZID=America/Chicago:20300323T130000
DTSTAMP:20260423T012210
CREATED:20250902T180310Z
LAST-MODIFIED:20250902T180310Z
UID:10013137-1900501200-1900501200@www.westsidecares.com
SUMMARY:Table Games (SDR)
DESCRIPTION:
URL:https://www.westsidecares.com/event/table-games-9-2-2-2-5-2-3-2-2-2/2030-03-23/
LOCATION:Westside Terrace\, 501 N Woodburn Drive\, Dothan\, AL\, 36303\, United States
GEO:31.2423912;-85.4546006
X-APPLE-STRUCTURED-LOCATION;VALUE=URI;X-ADDRESS=Westside Terrace 501 N Woodburn Drive Dothan AL 36303 United States;X-APPLE-RADIUS=500;X-TITLE=501 N Woodburn Drive:geo:-85.4546006,31.2423912
END:VEVENT
BEGIN:VEVENT
DTSTART;TZID=America/Chicago:20300323T140000
DTEND;TZID=America/Chicago:20300323T140000
DTSTAMP:20260423T012210
CREATED:20240320T162444Z
LAST-MODIFIED:20250519T155349Z
UID:10012811-1900504800-1900504800@www.westsidecares.com
SUMMARY:Resident Rights Bingo
DESCRIPTION:
URL:https://www.westsidecares.com/event/resident-rights-bingo-2/2030-03-23/
LOCATION:Westside Terrace\, 501 N Woodburn Drive\, Dothan\, AL\, 36303\, United States
GEO:31.2423912;-85.4546006
X-APPLE-STRUCTURED-LOCATION;VALUE=URI;X-ADDRESS=Westside Terrace 501 N Woodburn Drive Dothan AL 36303 United States;X-APPLE-RADIUS=500;X-TITLE=501 N Woodburn Drive:geo:-85.4546006,31.2423912
END:VEVENT
BEGIN:VEVENT
DTSTART;TZID=America/Chicago:20300324T100000
DTEND;TZID=America/Chicago:20300324T100000
DTSTAMP:20260423T012210
CREATED:20241127T170827Z
LAST-MODIFIED:20241127T170827Z
UID:10012797-1900576800-1900576800@www.westsidecares.com
SUMMARY:Sunday Worship on TV
DESCRIPTION:
URL:https://www.westsidecares.com/event/sunday-worship-2023-02-12-2-2-2/2030-03-24/
LOCATION:Westside Terrace\, 501 N Woodburn Drive\, Dothan\, AL\, 36303\, United States
GEO:31.2423912;-85.4546006
X-APPLE-STRUCTURED-LOCATION;VALUE=URI;X-ADDRESS=Westside Terrace 501 N Woodburn Drive Dothan AL 36303 United States;X-APPLE-RADIUS=500;X-TITLE=501 N Woodburn Drive:geo:-85.4546006,31.2423912
END:VEVENT
BEGIN:VEVENT
DTSTART;TZID=America/Chicago:20300324T130000
DTEND;TZID=America/Chicago:20300324T130000
DTSTAMP:20260423T012210
CREATED:20250902T180310Z
LAST-MODIFIED:20250902T180310Z
UID:10013138-1900587600-1900587600@www.westsidecares.com
SUMMARY:Table Games (SDR)
DESCRIPTION:
URL:https://www.westsidecares.com/event/table-games-9-2-2-2-5-2-3-2-2-2/2030-03-24/
LOCATION:Westside Terrace\, 501 N Woodburn Drive\, Dothan\, AL\, 36303\, United States
GEO:31.2423912;-85.4546006
X-APPLE-STRUCTURED-LOCATION;VALUE=URI;X-ADDRESS=Westside Terrace 501 N Woodburn Drive Dothan AL 36303 United States;X-APPLE-RADIUS=500;X-TITLE=501 N Woodburn Drive:geo:-85.4546006,31.2423912
END:VEVENT
BEGIN:VEVENT
DTSTART;TZID=America/Chicago:20300325T100000
DTEND;TZID=America/Chicago:20300325T100000
DTSTAMP:20260423T012210
CREATED:20250902T185412Z
LAST-MODIFIED:20250902T185412Z
UID:10013018-1900663200-1900663200@www.westsidecares.com
SUMMARY:Praise & Worship with Bro. Daulton
DESCRIPTION:
URL:https://www.westsidecares.com/event/praise-worship-with-dalton-2-2-2-2-2/2030-03-25/
LOCATION:Westside Terrace\, 501 N Woodburn Drive\, Dothan\, AL\, 36303\, United States
GEO:31.2423912;-85.4546006
X-APPLE-STRUCTURED-LOCATION;VALUE=URI;X-ADDRESS=Westside Terrace 501 N Woodburn Drive Dothan AL 36303 United States;X-APPLE-RADIUS=500;X-TITLE=501 N Woodburn Drive:geo:-85.4546006,31.2423912
END:VEVENT
BEGIN:VEVENT
DTSTART;TZID=America/Chicago:20300325T130000
DTEND;TZID=America/Chicago:20300325T130000
DTSTAMP:20260423T012210
CREATED:20250902T180310Z
LAST-MODIFIED:20250902T180310Z
UID:10013139-1900674000-1900674000@www.westsidecares.com
SUMMARY:Table Games (SDR)
DESCRIPTION:
URL:https://www.westsidecares.com/event/table-games-9-2-2-2-5-2-3-2-2-2/2030-03-25/
LOCATION:Westside Terrace\, 501 N Woodburn Drive\, Dothan\, AL\, 36303\, United States
GEO:31.2423912;-85.4546006
X-APPLE-STRUCTURED-LOCATION;VALUE=URI;X-ADDRESS=Westside Terrace 501 N Woodburn Drive Dothan AL 36303 United States;X-APPLE-RADIUS=500;X-TITLE=501 N Woodburn Drive:geo:-85.4546006,31.2423912
END:VEVENT
BEGIN:VEVENT
DTSTART;TZID=America/Chicago:20300325T190000
DTEND;TZID=America/Chicago:20300325T190000
DTSTAMP:20260423T012210
CREATED:20240816T184329Z
LAST-MODIFIED:20240816T192828Z
UID:10012798-1900695600-1900695600@www.westsidecares.com
SUMMARY:Beauty Shop
DESCRIPTION:
URL:https://www.westsidecares.com/event/beauty-shop-3-3/2030-03-25/
LOCATION:Westside Terrace\, 501 N Woodburn Drive\, Dothan\, AL\, 36303\, United States
CATEGORIES:Full Day w Styling
GEO:31.2423912;-85.4546006
X-APPLE-STRUCTURED-LOCATION;VALUE=URI;X-ADDRESS=Westside Terrace 501 N Woodburn Drive Dothan AL 36303 United States;X-APPLE-RADIUS=500;X-TITLE=501 N Woodburn Drive:geo:-85.4546006,31.2423912
END:VEVENT
BEGIN:VEVENT
DTSTART;TZID=America/Chicago:20300326T093000
DTEND;TZID=America/Chicago:20300326T093000
DTSTAMP:20260423T012210
CREATED:20240618T143810Z
LAST-MODIFIED:20240618T143810Z
UID:10012799-1900747800-1900747800@www.westsidecares.com
SUMMARY:Sensory
DESCRIPTION:
URL:https://www.westsidecares.com/event/sensory-2-2/2030-03-26/
LOCATION:Westside Terrace\, 501 N Woodburn Drive\, Dothan\, AL\, 36303\, United States
GEO:31.2423912;-85.4546006
X-APPLE-STRUCTURED-LOCATION;VALUE=URI;X-ADDRESS=Westside Terrace 501 N Woodburn Drive Dothan AL 36303 United States;X-APPLE-RADIUS=500;X-TITLE=501 N Woodburn Drive:geo:-85.4546006,31.2423912
END:VEVENT
BEGIN:VEVENT
DTSTART;TZID=America/Chicago:20300326T093000
DTEND;TZID=America/Chicago:20300326T093000
DTSTAMP:20260423T012210
CREATED:20241226T154151Z
LAST-MODIFIED:20241226T160001Z
UID:10012830-1900747800-1900747800@www.westsidecares.com
SUMMARY:Gospel Hour
DESCRIPTION:
URL:https://www.westsidecares.com/event/gospel-hour-5/2030-03-26/
LOCATION:Westside Terrace\, 501 N Woodburn Drive\, Dothan\, AL\, 36303\, United States
GEO:31.2423912;-85.4546006
X-APPLE-STRUCTURED-LOCATION;VALUE=URI;X-ADDRESS=Westside Terrace 501 N Woodburn Drive Dothan AL 36303 United States;X-APPLE-RADIUS=500;X-TITLE=501 N Woodburn Drive:geo:-85.4546006,31.2423912
END:VEVENT
END:VCALENDAR