BEGIN:VCALENDAR
VERSION:2.0
PRODID:-//Westside Terrace Healthcare - ECPv6.15.20//NONSGML v1.0//EN
CALSCALE:GREGORIAN
METHOD:PUBLISH
X-ORIGINAL-URL:https://www.westsidecares.com
X-WR-CALDESC:Events for Westside Terrace Healthcare
REFRESH-INTERVAL;VALUE=DURATION:PT1H
X-Robots-Tag:noindex
X-PUBLISHED-TTL:PT1H
BEGIN:VTIMEZONE
TZID:America/Chicago
BEGIN:DAYLIGHT
TZOFFSETFROM:-0600
TZOFFSETTO:-0500
TZNAME:CDT
DTSTART:20280312T080000
END:DAYLIGHT
BEGIN:STANDARD
TZOFFSETFROM:-0500
TZOFFSETTO:-0600
TZNAME:CST
DTSTART:20281105T070000
END:STANDARD
BEGIN:DAYLIGHT
TZOFFSETFROM:-0600
TZOFFSETTO:-0500
TZNAME:CDT
DTSTART:20290311T080000
END:DAYLIGHT
BEGIN:STANDARD
TZOFFSETFROM:-0500
TZOFFSETTO:-0600
TZNAME:CST
DTSTART:20291104T070000
END:STANDARD
BEGIN:DAYLIGHT
TZOFFSETFROM:-0600
TZOFFSETTO:-0500
TZNAME:CDT
DTSTART:20300310T080000
END:DAYLIGHT
BEGIN:STANDARD
TZOFFSETFROM:-0500
TZOFFSETTO:-0600
TZNAME:CST
DTSTART:20301103T070000
END:STANDARD
END:VTIMEZONE
BEGIN:VEVENT
DTSTART;TZID=America/Chicago:20291211T130000
DTEND;TZID=America/Chicago:20291211T130000
DTSTAMP:20260421T124241
CREATED:20250902T180310Z
LAST-MODIFIED:20250902T180310Z
UID:10011808-1891688400-1891688400@www.westsidecares.com
SUMMARY:Table Games (SDR)
DESCRIPTION:
URL:https://www.westsidecares.com/event/table-games-9-2-2-2-5-2-3-2-2-2/2029-12-11/
LOCATION:Westside Terrace\, 501 N Woodburn Drive\, Dothan\, AL\, 36303\, United States
GEO:31.2423912;-85.4546006
X-APPLE-STRUCTURED-LOCATION;VALUE=URI;X-ADDRESS=Westside Terrace 501 N Woodburn Drive Dothan AL 36303 United States;X-APPLE-RADIUS=500;X-TITLE=501 N Woodburn Drive:geo:-85.4546006,31.2423912
END:VEVENT
BEGIN:VEVENT
DTSTART;TZID=America/Chicago:20291211T190000
DTEND;TZID=America/Chicago:20291211T190000
DTSTAMP:20260421T124241
CREATED:20240816T192425Z
LAST-MODIFIED:20240816T192723Z
UID:10011773-1891710000-1891710000@www.westsidecares.com
SUMMARY:Beauty Shop
DESCRIPTION:
URL:https://www.westsidecares.com/event/beauty-shop-4-3-2/2029-12-11/
LOCATION:Westside Terrace\, 501 N Woodburn Drive\, Dothan\, AL\, 36303\, United States
CATEGORIES:Full Day w Styling
GEO:31.2423912;-85.4546006
X-APPLE-STRUCTURED-LOCATION;VALUE=URI;X-ADDRESS=Westside Terrace 501 N Woodburn Drive Dothan AL 36303 United States;X-APPLE-RADIUS=500;X-TITLE=501 N Woodburn Drive:geo:-85.4546006,31.2423912
END:VEVENT
BEGIN:VEVENT
DTSTART;TZID=America/Chicago:20291212T093000
DTEND;TZID=America/Chicago:20291212T093000
DTSTAMP:20260421T124241
CREATED:20240618T143906Z
LAST-MODIFIED:20240618T143907Z
UID:10011784-1891762200-1891762200@www.westsidecares.com
SUMMARY:Sensory
DESCRIPTION:
URL:https://www.westsidecares.com/event/small-groups-2-2/2029-12-12/
LOCATION:Westside Terrace\, 501 N Woodburn Drive\, Dothan\, AL\, 36303\, United States
GEO:31.2423912;-85.4546006
X-APPLE-STRUCTURED-LOCATION;VALUE=URI;X-ADDRESS=Westside Terrace 501 N Woodburn Drive Dothan AL 36303 United States;X-APPLE-RADIUS=500;X-TITLE=501 N Woodburn Drive:geo:-85.4546006,31.2423912
END:VEVENT
BEGIN:VEVENT
DTSTART;TZID=America/Chicago:20291212T100000
DTEND;TZID=America/Chicago:20291212T100000
DTSTAMP:20260421T124241
CREATED:20240320T163554Z
LAST-MODIFIED:20240501T155714Z
UID:10011785-1891764000-1891764000@www.westsidecares.com
SUMMARY:Wednesday Church
DESCRIPTION:
URL:https://www.westsidecares.com/event/wednesday-church-3/2029-12-12/
LOCATION:Westside Terrace\, 501 N Woodburn Drive\, Dothan\, AL\, 36303\, United States
GEO:31.2423912;-85.4546006
X-APPLE-STRUCTURED-LOCATION;VALUE=URI;X-ADDRESS=Westside Terrace 501 N Woodburn Drive Dothan AL 36303 United States;X-APPLE-RADIUS=500;X-TITLE=501 N Woodburn Drive:geo:-85.4546006,31.2423912
END:VEVENT
BEGIN:VEVENT
DTSTART;TZID=America/Chicago:20291212T130000
DTEND;TZID=America/Chicago:20291212T130000
DTSTAMP:20260421T124241
CREATED:20250902T180310Z
LAST-MODIFIED:20250902T180310Z
UID:10011809-1891774800-1891774800@www.westsidecares.com
SUMMARY:Table Games (SDR)
DESCRIPTION:
URL:https://www.westsidecares.com/event/table-games-9-2-2-2-5-2-3-2-2-2/2029-12-12/
LOCATION:Westside Terrace\, 501 N Woodburn Drive\, Dothan\, AL\, 36303\, United States
GEO:31.2423912;-85.4546006
X-APPLE-STRUCTURED-LOCATION;VALUE=URI;X-ADDRESS=Westside Terrace 501 N Woodburn Drive Dothan AL 36303 United States;X-APPLE-RADIUS=500;X-TITLE=501 N Woodburn Drive:geo:-85.4546006,31.2423912
END:VEVENT
BEGIN:VEVENT
DTSTART;TZID=America/Chicago:20291212T190000
DTEND;TZID=America/Chicago:20291212T190000
DTSTAMP:20260421T124241
CREATED:20240816T193058Z
LAST-MODIFIED:20240923T135600Z
UID:10011776-1891796400-1891796400@www.westsidecares.com
SUMMARY:Beauty Shop
DESCRIPTION:
URL:https://www.westsidecares.com/event/beauty-shop-2/2029-12-12/
LOCATION:Westside Terrace\, 501 N Woodburn Drive\, Dothan\, AL\, 36303\, United States
CATEGORIES:Full Day w Styling
GEO:31.2423912;-85.4546006
X-APPLE-STRUCTURED-LOCATION;VALUE=URI;X-ADDRESS=Westside Terrace 501 N Woodburn Drive Dothan AL 36303 United States;X-APPLE-RADIUS=500;X-TITLE=501 N Woodburn Drive:geo:-85.4546006,31.2423912
END:VEVENT
BEGIN:VEVENT
DTSTART;TZID=America/Chicago:20291213T130000
DTEND;TZID=America/Chicago:20291213T130000
DTSTAMP:20260421T124241
CREATED:20250902T180310Z
LAST-MODIFIED:20250902T180310Z
UID:10011810-1891861200-1891861200@www.westsidecares.com
SUMMARY:Table Games (SDR)
DESCRIPTION:
URL:https://www.westsidecares.com/event/table-games-9-2-2-2-5-2-3-2-2-2/2029-12-13/
LOCATION:Westside Terrace\, 501 N Woodburn Drive\, Dothan\, AL\, 36303\, United States
GEO:31.2423912;-85.4546006
X-APPLE-STRUCTURED-LOCATION;VALUE=URI;X-ADDRESS=Westside Terrace 501 N Woodburn Drive Dothan AL 36303 United States;X-APPLE-RADIUS=500;X-TITLE=501 N Woodburn Drive:geo:-85.4546006,31.2423912
END:VEVENT
BEGIN:VEVENT
DTSTART;TZID=America/Chicago:20291214T100000
DTEND;TZID=America/Chicago:20291214T100000
DTSTAMP:20260421T124241
CREATED:20230131T144018Z
LAST-MODIFIED:20240501T160141Z
UID:10011787-1891936800-1891936800@www.westsidecares.com
SUMMARY:Fitness Friday
DESCRIPTION:
URL:https://www.westsidecares.com/event/fitness-friday/2029-12-14/
LOCATION:Westside Terrace\, 501 N Woodburn Drive\, Dothan\, AL\, 36303\, United States
GEO:31.2423912;-85.4546006
X-APPLE-STRUCTURED-LOCATION;VALUE=URI;X-ADDRESS=Westside Terrace 501 N Woodburn Drive Dothan AL 36303 United States;X-APPLE-RADIUS=500;X-TITLE=501 N Woodburn Drive:geo:-85.4546006,31.2423912
END:VEVENT
BEGIN:VEVENT
DTSTART;TZID=America/Chicago:20291214T130000
DTEND;TZID=America/Chicago:20291214T130000
DTSTAMP:20260421T124241
CREATED:20250902T180310Z
LAST-MODIFIED:20250902T180310Z
UID:10011811-1891947600-1891947600@www.westsidecares.com
SUMMARY:Table Games (SDR)
DESCRIPTION:
URL:https://www.westsidecares.com/event/table-games-9-2-2-2-5-2-3-2-2-2/2029-12-14/
LOCATION:Westside Terrace\, 501 N Woodburn Drive\, Dothan\, AL\, 36303\, United States
GEO:31.2423912;-85.4546006
X-APPLE-STRUCTURED-LOCATION;VALUE=URI;X-ADDRESS=Westside Terrace 501 N Woodburn Drive Dothan AL 36303 United States;X-APPLE-RADIUS=500;X-TITLE=501 N Woodburn Drive:geo:-85.4546006,31.2423912
END:VEVENT
BEGIN:VEVENT
DTSTART;TZID=America/Chicago:20291214T190000
DTEND;TZID=America/Chicago:20291214T190000
DTSTAMP:20260421T124241
CREATED:20240816T193203Z
LAST-MODIFIED:20240816T193203Z
UID:10011778-1891969200-1891969200@www.westsidecares.com
SUMMARY:Beauty Shop
DESCRIPTION:
URL:https://www.westsidecares.com/event/beauty-shop-5/2029-12-14/
LOCATION:Westside Terrace\, 501 N Woodburn Drive\, Dothan\, AL\, 36303\, United States
CATEGORIES:Full Day w Styling
GEO:31.2423912;-85.4546006
X-APPLE-STRUCTURED-LOCATION;VALUE=URI;X-ADDRESS=Westside Terrace 501 N Woodburn Drive Dothan AL 36303 United States;X-APPLE-RADIUS=500;X-TITLE=501 N Woodburn Drive:geo:-85.4546006,31.2423912
END:VEVENT
BEGIN:VEVENT
DTSTART;TZID=America/Chicago:20291215T130000
DTEND;TZID=America/Chicago:20291215T130000
DTSTAMP:20260421T124241
CREATED:20250902T180310Z
LAST-MODIFIED:20250902T180310Z
UID:10011812-1892034000-1892034000@www.westsidecares.com
SUMMARY:Table Games (SDR)
DESCRIPTION:
URL:https://www.westsidecares.com/event/table-games-9-2-2-2-5-2-3-2-2-2/2029-12-15/
LOCATION:Westside Terrace\, 501 N Woodburn Drive\, Dothan\, AL\, 36303\, United States
GEO:31.2423912;-85.4546006
X-APPLE-STRUCTURED-LOCATION;VALUE=URI;X-ADDRESS=Westside Terrace 501 N Woodburn Drive Dothan AL 36303 United States;X-APPLE-RADIUS=500;X-TITLE=501 N Woodburn Drive:geo:-85.4546006,31.2423912
END:VEVENT
BEGIN:VEVENT
DTSTART;TZID=America/Chicago:20291215T140000
DTEND;TZID=America/Chicago:20291215T140000
DTSTAMP:20260421T124241
CREATED:20240320T162444Z
LAST-MODIFIED:20250519T155349Z
UID:10011779-1892037600-1892037600@www.westsidecares.com
SUMMARY:Resident Rights Bingo
DESCRIPTION:
URL:https://www.westsidecares.com/event/resident-rights-bingo-2/2029-12-15/
LOCATION:Westside Terrace\, 501 N Woodburn Drive\, Dothan\, AL\, 36303\, United States
GEO:31.2423912;-85.4546006
X-APPLE-STRUCTURED-LOCATION;VALUE=URI;X-ADDRESS=Westside Terrace 501 N Woodburn Drive Dothan AL 36303 United States;X-APPLE-RADIUS=500;X-TITLE=501 N Woodburn Drive:geo:-85.4546006,31.2423912
END:VEVENT
BEGIN:VEVENT
DTSTART;TZID=America/Chicago:20291216T100000
DTEND;TZID=America/Chicago:20291216T100000
DTSTAMP:20260421T124241
CREATED:20241127T170827Z
LAST-MODIFIED:20241127T170827Z
UID:10012648-1892109600-1892109600@www.westsidecares.com
SUMMARY:Sunday Worship on TV
DESCRIPTION:
URL:https://www.westsidecares.com/event/sunday-worship-2023-02-12-2-2-2/2029-12-16/
LOCATION:Westside Terrace\, 501 N Woodburn Drive\, Dothan\, AL\, 36303\, United States
GEO:31.2423912;-85.4546006
X-APPLE-STRUCTURED-LOCATION;VALUE=URI;X-ADDRESS=Westside Terrace 501 N Woodburn Drive Dothan AL 36303 United States;X-APPLE-RADIUS=500;X-TITLE=501 N Woodburn Drive:geo:-85.4546006,31.2423912
END:VEVENT
BEGIN:VEVENT
DTSTART;TZID=America/Chicago:20291216T130000
DTEND;TZID=America/Chicago:20291216T130000
DTSTAMP:20260421T124241
CREATED:20250902T180310Z
LAST-MODIFIED:20250902T180310Z
UID:10011813-1892120400-1892120400@www.westsidecares.com
SUMMARY:Table Games (SDR)
DESCRIPTION:
URL:https://www.westsidecares.com/event/table-games-9-2-2-2-5-2-3-2-2-2/2029-12-16/
LOCATION:Westside Terrace\, 501 N Woodburn Drive\, Dothan\, AL\, 36303\, United States
GEO:31.2423912;-85.4546006
X-APPLE-STRUCTURED-LOCATION;VALUE=URI;X-ADDRESS=Westside Terrace 501 N Woodburn Drive Dothan AL 36303 United States;X-APPLE-RADIUS=500;X-TITLE=501 N Woodburn Drive:geo:-85.4546006,31.2423912
END:VEVENT
BEGIN:VEVENT
DTSTART;TZID=America/Chicago:20291217T130000
DTEND;TZID=America/Chicago:20291217T130000
DTSTAMP:20260421T124241
CREATED:20250902T180310Z
LAST-MODIFIED:20250902T180310Z
UID:10011814-1892206800-1892206800@www.westsidecares.com
SUMMARY:Table Games (SDR)
DESCRIPTION:
URL:https://www.westsidecares.com/event/table-games-9-2-2-2-5-2-3-2-2-2/2029-12-17/
LOCATION:Westside Terrace\, 501 N Woodburn Drive\, Dothan\, AL\, 36303\, United States
GEO:31.2423912;-85.4546006
X-APPLE-STRUCTURED-LOCATION;VALUE=URI;X-ADDRESS=Westside Terrace 501 N Woodburn Drive Dothan AL 36303 United States;X-APPLE-RADIUS=500;X-TITLE=501 N Woodburn Drive:geo:-85.4546006,31.2423912
END:VEVENT
BEGIN:VEVENT
DTSTART;TZID=America/Chicago:20291217T140000
DTEND;TZID=America/Chicago:20291217T140000
DTSTAMP:20260421T124241
CREATED:20240320T170155Z
LAST-MODIFIED:20240320T170155Z
UID:10011780-1892210400-1892210400@www.westsidecares.com
SUMMARY:Music with Lil Jimmy Reed (Bluesman)
DESCRIPTION:
URL:https://www.westsidecares.com/event/music-with-lil-jimmy-reed-bluesman/2029-12-17/
LOCATION:Westside Terrace\, 501 N Woodburn Drive\, Dothan\, AL\, 36303\, United States
GEO:31.2423912;-85.4546006
X-APPLE-STRUCTURED-LOCATION;VALUE=URI;X-ADDRESS=Westside Terrace 501 N Woodburn Drive Dothan AL 36303 United States;X-APPLE-RADIUS=500;X-TITLE=501 N Woodburn Drive:geo:-85.4546006,31.2423912
END:VEVENT
BEGIN:VEVENT
DTSTART;TZID=America/Chicago:20291217T190000
DTEND;TZID=America/Chicago:20291217T190000
DTSTAMP:20260421T124241
CREATED:20240816T184329Z
LAST-MODIFIED:20240816T192828Z
UID:10011781-1892228400-1892228400@www.westsidecares.com
SUMMARY:Beauty Shop
DESCRIPTION:
URL:https://www.westsidecares.com/event/beauty-shop-3-3/2029-12-17/
LOCATION:Westside Terrace\, 501 N Woodburn Drive\, Dothan\, AL\, 36303\, United States
CATEGORIES:Full Day w Styling
GEO:31.2423912;-85.4546006
X-APPLE-STRUCTURED-LOCATION;VALUE=URI;X-ADDRESS=Westside Terrace 501 N Woodburn Drive Dothan AL 36303 United States;X-APPLE-RADIUS=500;X-TITLE=501 N Woodburn Drive:geo:-85.4546006,31.2423912
END:VEVENT
BEGIN:VEVENT
DTSTART;TZID=America/Chicago:20291218T093000
DTEND;TZID=America/Chicago:20291218T093000
DTSTAMP:20260421T124241
CREATED:20240618T143810Z
LAST-MODIFIED:20240618T143810Z
UID:10011791-1892280600-1892280600@www.westsidecares.com
SUMMARY:Sensory
DESCRIPTION:
URL:https://www.westsidecares.com/event/sensory-2-2/2029-12-18/
LOCATION:Westside Terrace\, 501 N Woodburn Drive\, Dothan\, AL\, 36303\, United States
GEO:31.2423912;-85.4546006
X-APPLE-STRUCTURED-LOCATION;VALUE=URI;X-ADDRESS=Westside Terrace 501 N Woodburn Drive Dothan AL 36303 United States;X-APPLE-RADIUS=500;X-TITLE=501 N Woodburn Drive:geo:-85.4546006,31.2423912
END:VEVENT
BEGIN:VEVENT
DTSTART;TZID=America/Chicago:20291218T093000
DTEND;TZID=America/Chicago:20291218T093000
DTSTAMP:20260421T124241
CREATED:20241226T154151Z
LAST-MODIFIED:20241226T160001Z
UID:10012414-1892280600-1892280600@www.westsidecares.com
SUMMARY:Gospel Hour
DESCRIPTION:
URL:https://www.westsidecares.com/event/gospel-hour-5/2029-12-18/
LOCATION:Westside Terrace\, 501 N Woodburn Drive\, Dothan\, AL\, 36303\, United States
GEO:31.2423912;-85.4546006
X-APPLE-STRUCTURED-LOCATION;VALUE=URI;X-ADDRESS=Westside Terrace 501 N Woodburn Drive Dothan AL 36303 United States;X-APPLE-RADIUS=500;X-TITLE=501 N Woodburn Drive:geo:-85.4546006,31.2423912
END:VEVENT
BEGIN:VEVENT
DTSTART;TZID=America/Chicago:20291218T130000
DTEND;TZID=America/Chicago:20291218T130000
DTSTAMP:20260421T124241
CREATED:20250902T180310Z
LAST-MODIFIED:20250902T180310Z
UID:10011815-1892293200-1892293200@www.westsidecares.com
SUMMARY:Table Games (SDR)
DESCRIPTION:
URL:https://www.westsidecares.com/event/table-games-9-2-2-2-5-2-3-2-2-2/2029-12-18/
LOCATION:Westside Terrace\, 501 N Woodburn Drive\, Dothan\, AL\, 36303\, United States
GEO:31.2423912;-85.4546006
X-APPLE-STRUCTURED-LOCATION;VALUE=URI;X-ADDRESS=Westside Terrace 501 N Woodburn Drive Dothan AL 36303 United States;X-APPLE-RADIUS=500;X-TITLE=501 N Woodburn Drive:geo:-85.4546006,31.2423912
END:VEVENT
BEGIN:VEVENT
DTSTART;TZID=America/Chicago:20291218T190000
DTEND;TZID=America/Chicago:20291218T190000
DTSTAMP:20260421T124241
CREATED:20240816T192425Z
LAST-MODIFIED:20240816T192723Z
UID:10011783-1892314800-1892314800@www.westsidecares.com
SUMMARY:Beauty Shop
DESCRIPTION:
URL:https://www.westsidecares.com/event/beauty-shop-4-3-2/2029-12-18/
LOCATION:Westside Terrace\, 501 N Woodburn Drive\, Dothan\, AL\, 36303\, United States
CATEGORIES:Full Day w Styling
GEO:31.2423912;-85.4546006
X-APPLE-STRUCTURED-LOCATION;VALUE=URI;X-ADDRESS=Westside Terrace 501 N Woodburn Drive Dothan AL 36303 United States;X-APPLE-RADIUS=500;X-TITLE=501 N Woodburn Drive:geo:-85.4546006,31.2423912
END:VEVENT
BEGIN:VEVENT
DTSTART;TZID=America/Chicago:20291219T093000
DTEND;TZID=America/Chicago:20291219T093000
DTSTAMP:20260421T124241
CREATED:20240618T143906Z
LAST-MODIFIED:20240618T143907Z
UID:10011793-1892367000-1892367000@www.westsidecares.com
SUMMARY:Sensory
DESCRIPTION:
URL:https://www.westsidecares.com/event/small-groups-2-2/2029-12-19/
LOCATION:Westside Terrace\, 501 N Woodburn Drive\, Dothan\, AL\, 36303\, United States
GEO:31.2423912;-85.4546006
X-APPLE-STRUCTURED-LOCATION;VALUE=URI;X-ADDRESS=Westside Terrace 501 N Woodburn Drive Dothan AL 36303 United States;X-APPLE-RADIUS=500;X-TITLE=501 N Woodburn Drive:geo:-85.4546006,31.2423912
END:VEVENT
BEGIN:VEVENT
DTSTART;TZID=America/Chicago:20291219T100000
DTEND;TZID=America/Chicago:20291219T100000
DTSTAMP:20260421T124241
CREATED:20240320T163554Z
LAST-MODIFIED:20240501T155714Z
UID:10011794-1892368800-1892368800@www.westsidecares.com
SUMMARY:Wednesday Church
DESCRIPTION:
URL:https://www.westsidecares.com/event/wednesday-church-3/2029-12-19/
LOCATION:Westside Terrace\, 501 N Woodburn Drive\, Dothan\, AL\, 36303\, United States
GEO:31.2423912;-85.4546006
X-APPLE-STRUCTURED-LOCATION;VALUE=URI;X-ADDRESS=Westside Terrace 501 N Woodburn Drive Dothan AL 36303 United States;X-APPLE-RADIUS=500;X-TITLE=501 N Woodburn Drive:geo:-85.4546006,31.2423912
END:VEVENT
BEGIN:VEVENT
DTSTART;TZID=America/Chicago:20291219T130000
DTEND;TZID=America/Chicago:20291219T130000
DTSTAMP:20260421T124241
CREATED:20250902T180310Z
LAST-MODIFIED:20250902T180310Z
UID:10011816-1892379600-1892379600@www.westsidecares.com
SUMMARY:Table Games (SDR)
DESCRIPTION:
URL:https://www.westsidecares.com/event/table-games-9-2-2-2-5-2-3-2-2-2/2029-12-19/
LOCATION:Westside Terrace\, 501 N Woodburn Drive\, Dothan\, AL\, 36303\, United States
GEO:31.2423912;-85.4546006
X-APPLE-STRUCTURED-LOCATION;VALUE=URI;X-ADDRESS=Westside Terrace 501 N Woodburn Drive Dothan AL 36303 United States;X-APPLE-RADIUS=500;X-TITLE=501 N Woodburn Drive:geo:-85.4546006,31.2423912
END:VEVENT
BEGIN:VEVENT
DTSTART;TZID=America/Chicago:20291219T190000
DTEND;TZID=America/Chicago:20291219T190000
DTSTAMP:20260421T124241
CREATED:20240816T193058Z
LAST-MODIFIED:20240923T135600Z
UID:10011786-1892401200-1892401200@www.westsidecares.com
SUMMARY:Beauty Shop
DESCRIPTION:
URL:https://www.westsidecares.com/event/beauty-shop-2/2029-12-19/
LOCATION:Westside Terrace\, 501 N Woodburn Drive\, Dothan\, AL\, 36303\, United States
CATEGORIES:Full Day w Styling
GEO:31.2423912;-85.4546006
X-APPLE-STRUCTURED-LOCATION;VALUE=URI;X-ADDRESS=Westside Terrace 501 N Woodburn Drive Dothan AL 36303 United States;X-APPLE-RADIUS=500;X-TITLE=501 N Woodburn Drive:geo:-85.4546006,31.2423912
END:VEVENT
BEGIN:VEVENT
DTSTART;TZID=America/Chicago:20291220T130000
DTEND;TZID=America/Chicago:20291220T130000
DTSTAMP:20260421T124241
CREATED:20250902T180310Z
LAST-MODIFIED:20250902T180310Z
UID:10011817-1892466000-1892466000@www.westsidecares.com
SUMMARY:Table Games (SDR)
DESCRIPTION:
URL:https://www.westsidecares.com/event/table-games-9-2-2-2-5-2-3-2-2-2/2029-12-20/
LOCATION:Westside Terrace\, 501 N Woodburn Drive\, Dothan\, AL\, 36303\, United States
GEO:31.2423912;-85.4546006
X-APPLE-STRUCTURED-LOCATION;VALUE=URI;X-ADDRESS=Westside Terrace 501 N Woodburn Drive Dothan AL 36303 United States;X-APPLE-RADIUS=500;X-TITLE=501 N Woodburn Drive:geo:-85.4546006,31.2423912
END:VEVENT
BEGIN:VEVENT
DTSTART;TZID=America/Chicago:20291221T100000
DTEND;TZID=America/Chicago:20291221T100000
DTSTAMP:20260421T124241
CREATED:20230131T144018Z
LAST-MODIFIED:20240501T160141Z
UID:10012493-1892541600-1892541600@www.westsidecares.com
SUMMARY:Fitness Friday
DESCRIPTION:
URL:https://www.westsidecares.com/event/fitness-friday/2029-12-21/
LOCATION:Westside Terrace\, 501 N Woodburn Drive\, Dothan\, AL\, 36303\, United States
GEO:31.2423912;-85.4546006
X-APPLE-STRUCTURED-LOCATION;VALUE=URI;X-ADDRESS=Westside Terrace 501 N Woodburn Drive Dothan AL 36303 United States;X-APPLE-RADIUS=500;X-TITLE=501 N Woodburn Drive:geo:-85.4546006,31.2423912
END:VEVENT
BEGIN:VEVENT
DTSTART;TZID=America/Chicago:20291221T130000
DTEND;TZID=America/Chicago:20291221T130000
DTSTAMP:20260421T124241
CREATED:20250902T180310Z
LAST-MODIFIED:20250902T180310Z
UID:10011818-1892552400-1892552400@www.westsidecares.com
SUMMARY:Table Games (SDR)
DESCRIPTION:
URL:https://www.westsidecares.com/event/table-games-9-2-2-2-5-2-3-2-2-2/2029-12-21/
LOCATION:Westside Terrace\, 501 N Woodburn Drive\, Dothan\, AL\, 36303\, United States
GEO:31.2423912;-85.4546006
X-APPLE-STRUCTURED-LOCATION;VALUE=URI;X-ADDRESS=Westside Terrace 501 N Woodburn Drive Dothan AL 36303 United States;X-APPLE-RADIUS=500;X-TITLE=501 N Woodburn Drive:geo:-85.4546006,31.2423912
END:VEVENT
BEGIN:VEVENT
DTSTART;TZID=America/Chicago:20291221T190000
DTEND;TZID=America/Chicago:20291221T190000
DTSTAMP:20260421T124241
CREATED:20240816T193203Z
LAST-MODIFIED:20240816T193203Z
UID:10011788-1892574000-1892574000@www.westsidecares.com
SUMMARY:Beauty Shop
DESCRIPTION:
URL:https://www.westsidecares.com/event/beauty-shop-5/2029-12-21/
LOCATION:Westside Terrace\, 501 N Woodburn Drive\, Dothan\, AL\, 36303\, United States
CATEGORIES:Full Day w Styling
GEO:31.2423912;-85.4546006
X-APPLE-STRUCTURED-LOCATION;VALUE=URI;X-ADDRESS=Westside Terrace 501 N Woodburn Drive Dothan AL 36303 United States;X-APPLE-RADIUS=500;X-TITLE=501 N Woodburn Drive:geo:-85.4546006,31.2423912
END:VEVENT
BEGIN:VEVENT
DTSTART;TZID=America/Chicago:20291222T130000
DTEND;TZID=America/Chicago:20291222T130000
DTSTAMP:20260421T124241
CREATED:20250902T180310Z
LAST-MODIFIED:20250902T180310Z
UID:10011819-1892638800-1892638800@www.westsidecares.com
SUMMARY:Table Games (SDR)
DESCRIPTION:
URL:https://www.westsidecares.com/event/table-games-9-2-2-2-5-2-3-2-2-2/2029-12-22/
LOCATION:Westside Terrace\, 501 N Woodburn Drive\, Dothan\, AL\, 36303\, United States
GEO:31.2423912;-85.4546006
X-APPLE-STRUCTURED-LOCATION;VALUE=URI;X-ADDRESS=Westside Terrace 501 N Woodburn Drive Dothan AL 36303 United States;X-APPLE-RADIUS=500;X-TITLE=501 N Woodburn Drive:geo:-85.4546006,31.2423912
END:VEVENT
END:VCALENDAR